BEGIN:VCALENDAR
VERSION:2.0
PRODID:-//In His Wakes - ECPv6.15.13//NONSGML v1.0//EN
CALSCALE:GREGORIAN
METHOD:PUBLISH
X-ORIGINAL-URL:https://inhiswakes.com
X-WR-CALDESC:Events for In His Wakes
REFRESH-INTERVAL;VALUE=DURATION:PT1H
X-Robots-Tag:noindex
X-PUBLISHED-TTL:PT1H
BEGIN:VTIMEZONE
TZID:UTC
BEGIN:STANDARD
TZOFFSETFROM:+0000
TZOFFSETTO:+0000
TZNAME:UTC
DTSTART:20250101T000000
END:STANDARD
END:VTIMEZONE
BEGIN:VEVENT
DTSTART;VALUE=DATE:20260518
DTEND;VALUE=DATE:20260519
DTSTAMP:20260424T153050
CREATED:20260402T171943Z
LAST-MODIFIED:20260402T171943Z
UID:8858-1779062400-1779148799@inhiswakes.com
SUMMARY:FLYCA Camp Blanding D2R - Starke\, FL
DESCRIPTION:
URL:https://inhiswakes.com/event/flyca-camp-blanding-d2r-starke-fl/
END:VEVENT
BEGIN:VEVENT
DTSTART;VALUE=DATE:20260519
DTEND;VALUE=DATE:20260520
DTSTAMP:20260424T153050
CREATED:20260402T172020Z
LAST-MODIFIED:20260402T172020Z
UID:8860-1779148800-1779235199@inhiswakes.com
SUMMARY:FLYCA Camp Blanding D2R - Starke\, FL - In His Wakes
DESCRIPTION:
URL:https://inhiswakes.com/event/flyca-camp-blanding-d2r-starke-fl-in-his-wakes/
END:VEVENT
BEGIN:VEVENT
DTSTART;TZID=UTC:20260522T080000
DTEND;TZID=UTC:20260524T170000
DTSTAMP:20260424T153050
CREATED:20260402T172850Z
LAST-MODIFIED:20260402T172850Z
UID:8864-1779436800-1779642000@inhiswakes.com
SUMMARY:Nautique Masters - Calloway Gardens\, Pine Mtn\, GA
DESCRIPTION:
URL:https://inhiswakes.com/event/nautique-masters-calloway-gardens-pine-mtn-ga/
END:VEVENT
BEGIN:VEVENT
DTSTART;TZID=UTC:20260524T074500
DTEND;TZID=UTC:20260524T083000
DTSTAMP:20260424T153050
CREATED:20260402T173318Z
LAST-MODIFIED:20260402T173318Z
UID:8866-1779608700-1779611400@inhiswakes.com
SUMMARY:Masters Church Service - Calloway Gardens\, Pine Mtn\, GA
DESCRIPTION:Come join us for a time of worship and fellowship!  Service will be held at the Calloway Garden Resort.
URL:https://inhiswakes.com/event/masters-church-service-calloway-gardens-pine-mtn-ga/
END:VEVENT
BEGIN:VEVENT
DTSTART;VALUE=DATE:20260527
DTEND;VALUE=DATE:20260528
DTSTAMP:20260424T153050
CREATED:20260402T172216Z
LAST-MODIFIED:20260402T172216Z
UID:8862-1779840000-1779926399@inhiswakes.com
SUMMARY:Hope is Alive D2R - Lake Kristi\, Greenville\, NC
DESCRIPTION:
URL:https://inhiswakes.com/event/hope-is-alive-d2r-lake-kristi-greenville-nc/
END:VEVENT
BEGIN:VEVENT
DTSTART;VALUE=DATE:20260530
DTEND;VALUE=DATE:20260531
DTSTAMP:20260424T153050
CREATED:20260402T174043Z
LAST-MODIFIED:20260402T174043Z
UID:8870-1780099200-1780185599@inhiswakes.com
SUMMARY:FOSTER CARE GROUP  D2R - LAKE KRISTI - GREENVILLE\, NC
DESCRIPTION:
URL:https://inhiswakes.com/event/foster-care-group-d2r-lake-kristi-greenville-nc/
END:VEVENT
END:VCALENDAR