BEGIN:VCALENDAR
VERSION:2.0
PRODID:-//In His Wakes - ECPv6.15.13//NONSGML v1.0//EN
CALSCALE:GREGORIAN
METHOD:PUBLISH
X-WR-CALNAME:In His Wakes
X-ORIGINAL-URL:https://inhiswakes.com
X-WR-CALDESC:Events for In His Wakes
REFRESH-INTERVAL;VALUE=DURATION:PT1H
X-Robots-Tag:noindex
X-PUBLISHED-TTL:PT1H
BEGIN:VTIMEZONE
TZID:UTC
BEGIN:STANDARD
TZOFFSETFROM:+0000
TZOFFSETTO:+0000
TZNAME:UTC
DTSTART:20220101T000000
END:STANDARD
END:VTIMEZONE
BEGIN:VEVENT
DTSTART;VALUE=DATE:20230710
DTEND;VALUE=DATE:20230711
DTSTAMP:20260425T145644
CREATED:20230302T162051Z
LAST-MODIFIED:20230302T162051Z
UID:8600-1688947200-1689033599@inhiswakes.com
SUMMARY:D2R - Wind River Res Youth - Riverton\, WY
DESCRIPTION:
URL:https://inhiswakes.com/event/d2r-wind-river-res-youth-riverton-wy/
END:VEVENT
BEGIN:VEVENT
DTSTART;VALUE=DATE:20230707
DTEND;VALUE=DATE:20230708
DTSTAMP:20260425T145644
CREATED:20230302T161927Z
LAST-MODIFIED:20230302T161927Z
UID:8598-1688688000-1688774399@inhiswakes.com
SUMMARY:D2R - Salvation Army - Loveland\, CO
DESCRIPTION:
URL:https://inhiswakes.com/event/d2r-salvation-army-loveland-co/
END:VEVENT
BEGIN:VEVENT
DTSTART;VALUE=DATE:20230705
DTEND;VALUE=DATE:20230706
DTSTAMP:20260425T145644
CREATED:20230302T161836Z
LAST-MODIFIED:20230302T161836Z
UID:8596-1688515200-1688601599@inhiswakes.com
SUMMARY:D2R - Pueblo\, CO
DESCRIPTION:
URL:https://inhiswakes.com/event/d2r-pueblo-co/
END:VEVENT
BEGIN:VEVENT
DTSTART;VALUE=DATE:20230630
DTEND;VALUE=DATE:20230701
DTSTAMP:20260425T145644
CREATED:20230228T182106Z
LAST-MODIFIED:20230228T182106Z
UID:8594-1688083200-1688169599@inhiswakes.com
SUMMARY:D2R - Brookswood - Lakes of Katy\, TX
DESCRIPTION:
URL:https://inhiswakes.com/event/d2r-brookswood-lakes-of-katy-tx/
END:VEVENT
BEGIN:VEVENT
DTSTART;VALUE=DATE:20230626
DTEND;VALUE=DATE:20230627
DTSTAMP:20260425T145644
CREATED:20230228T182008Z
LAST-MODIFIED:20230228T182008Z
UID:8592-1687737600-1687823999@inhiswakes.com
SUMMARY:D2R - Onaga\, KS
DESCRIPTION:
URL:https://inhiswakes.com/event/d2r-onaga-ks/
END:VEVENT
BEGIN:VEVENT
DTSTART;VALUE=DATE:20230623
DTEND;VALUE=DATE:20230624
DTSTAMP:20260425T145644
CREATED:20230228T181921Z
LAST-MODIFIED:20230228T181921Z
UID:8590-1687478400-1687564799@inhiswakes.com
SUMMARY:D2R - Tree House - Medicine Lake\, MN
DESCRIPTION:
URL:https://inhiswakes.com/event/d2r-tree-house-medicine-lake-mn/
END:VEVENT
BEGIN:VEVENT
DTSTART;VALUE=DATE:20230621
DTEND;VALUE=DATE:20230622
DTSTAMP:20260425T145644
CREATED:20230228T181814Z
LAST-MODIFIED:20230228T181814Z
UID:8588-1687305600-1687391999@inhiswakes.com
SUMMARY:D2R - Teen Challenge - Brainerd\, MN
DESCRIPTION:
URL:https://inhiswakes.com/event/d2r-teen-challenge-brainerd-mn/
END:VEVENT
BEGIN:VEVENT
DTSTART;VALUE=DATE:20230619
DTEND;VALUE=DATE:20230620
DTSTAMP:20260425T145644
CREATED:20230228T181639Z
LAST-MODIFIED:20230228T181639Z
UID:8586-1687132800-1687219199@inhiswakes.com
SUMMARY:D2R - Elkhorn\, WI
DESCRIPTION:
URL:https://inhiswakes.com/event/d2r-elkhorn-wi/
END:VEVENT
BEGIN:VEVENT
DTSTART;VALUE=DATE:20230616
DTEND;VALUE=DATE:20230617
DTSTAMP:20260425T145644
CREATED:20230228T181048Z
LAST-MODIFIED:20230228T181048Z
UID:8584-1686873600-1686959999@inhiswakes.com
SUMMARY:D2R - Clarksville\, MI
DESCRIPTION:
URL:https://inhiswakes.com/event/d2r-clarksville-mi/
END:VEVENT
BEGIN:VEVENT
DTSTART;VALUE=DATE:20230616
DTEND;VALUE=DATE:20230617
DTSTAMP:20260425T145644
CREATED:20230228T174858Z
LAST-MODIFIED:20230228T174858Z
UID:8582-1686873600-1686959999@inhiswakes.com
SUMMARY:D2R - Nashville\, TN
DESCRIPTION:
URL:https://inhiswakes.com/event/d2r-nashville-tn/
END:VEVENT
BEGIN:VEVENT
DTSTART;VALUE=DATE:20230615
DTEND;VALUE=DATE:20230616
DTSTAMP:20260425T145644
CREATED:20230228T174815Z
LAST-MODIFIED:20230228T174815Z
UID:8580-1686787200-1686873599@inhiswakes.com
SUMMARY:D2R - Mercy Multiplied - Nashville\, TN
DESCRIPTION:
URL:https://inhiswakes.com/event/d2r-mercy-multiplied-nashville-tn/
END:VEVENT
BEGIN:VEVENT
DTSTART;VALUE=DATE:20230614
DTEND;VALUE=DATE:20230615
DTSTAMP:20260425T145644
CREATED:20230228T174607Z
LAST-MODIFIED:20230228T174607Z
UID:8578-1686700800-1686787199@inhiswakes.com
SUMMARY:D2R - Mohawk Lake\, OH
DESCRIPTION:
URL:https://inhiswakes.com/event/d2r-mohawk-lake-oh/
END:VEVENT
BEGIN:VEVENT
DTSTART;VALUE=DATE:20230612
DTEND;VALUE=DATE:20230613
DTSTAMP:20260425T145644
CREATED:20230228T174310Z
LAST-MODIFIED:20230228T174310Z
UID:8574-1686528000-1686614399@inhiswakes.com
SUMMARY:D2R - Delaware\, OH
DESCRIPTION:
URL:https://inhiswakes.com/event/d2r-delaware-oh/
END:VEVENT
BEGIN:VEVENT
DTSTART;VALUE=DATE:20230612
DTEND;VALUE=DATE:20230613
DTSTAMP:20260425T145644
CREATED:20230228T174155Z
LAST-MODIFIED:20230228T174155Z
UID:8572-1686528000-1686614399@inhiswakes.com
SUMMARY:D2R - Hope is Alive - Lake Kristi\, NC
DESCRIPTION:
URL:https://inhiswakes.com/event/d2r-hope-is-alive-lake-kristi-nc/
END:VEVENT
BEGIN:VEVENT
DTSTART;VALUE=DATE:20230610
DTEND;VALUE=DATE:20230611
DTSTAMP:20260425T145644
CREATED:20230228T174104Z
LAST-MODIFIED:20230228T174104Z
UID:8570-1686355200-1686441599@inhiswakes.com
SUMMARY:D2R - Cry Freedom - Lake Kristi\, NC
DESCRIPTION:
URL:https://inhiswakes.com/event/d2r-cry-freedom-lake-kristi-nc/
END:VEVENT
BEGIN:VEVENT
DTSTART;VALUE=DATE:20230609
DTEND;VALUE=DATE:20230610
DTSTAMP:20260425T145644
CREATED:20230228T174432Z
LAST-MODIFIED:20230228T174432Z
UID:8576-1686268800-1686355199@inhiswakes.com
SUMMARY:D2R - Teen Challenge - Dow\, IL
DESCRIPTION:
URL:https://inhiswakes.com/event/d2r-teen-challenge-dow-il/
END:VEVENT
BEGIN:VEVENT
DTSTART;VALUE=DATE:20230609
DTEND;VALUE=DATE:20230610
DTSTAMP:20260425T145644
CREATED:20230228T174017Z
LAST-MODIFIED:20230228T174017Z
UID:8568-1686268800-1686355199@inhiswakes.com
SUMMARY:D2R - ACES - Lake Kristi\, NC
DESCRIPTION:
URL:https://inhiswakes.com/event/d2r-aces-lake-kristi-nc/
END:VEVENT
BEGIN:VEVENT
DTSTART;TZID=UTC:20230605T080000
DTEND;TZID=UTC:20230608T170000
DTSTAMP:20260425T145644
CREATED:20230228T173733Z
LAST-MODIFIED:20230228T173733Z
UID:8564-1685952000-1686243600@inhiswakes.com
SUMMARY:Awaken Wake Camp - Lake of the Ozarks\, MO
DESCRIPTION:
URL:https://inhiswakes.com/event/awaken-wake-camp-lake-of-the-ozarks-mo/
END:VEVENT
BEGIN:VEVENT
DTSTART;VALUE=DATE:20230605
DTEND;VALUE=DATE:20230606
DTSTAMP:20260425T145644
CREATED:20230404T222808Z
LAST-MODIFIED:20230404T222808Z
UID:8656-1685923200-1686009599@inhiswakes.com
SUMMARY:Lake Allatoona\, GA - D2R
DESCRIPTION:Gosha Valley Youth Ranch
URL:https://inhiswakes.com/event/lake-allatoona-ga-d2r/
END:VEVENT
BEGIN:VEVENT
DTSTART;VALUE=DATE:20230605
DTEND;VALUE=DATE:20230606
DTSTAMP:20260425T145644
CREATED:20230228T173845Z
LAST-MODIFIED:20230228T173845Z
UID:8566-1685923200-1686009599@inhiswakes.com
SUMMARY:D2R - Dividing Creek\, NJ
DESCRIPTION:
URL:https://inhiswakes.com/event/d2r-dividing-creek-nj/
END:VEVENT
BEGIN:VEVENT
DTSTART;VALUE=DATE:20230602
DTEND;VALUE=DATE:20230603
DTSTAMP:20260425T145644
CREATED:20230228T173549Z
LAST-MODIFIED:20230228T173549Z
UID:8562-1685664000-1685750399@inhiswakes.com
SUMMARY:D2R - Smith Lake\, AL
DESCRIPTION:
URL:https://inhiswakes.com/event/d2r-smith-lake-al-2/
END:VEVENT
BEGIN:VEVENT
DTSTART;VALUE=DATE:20230601
DTEND;VALUE=DATE:20230602
DTSTAMP:20260425T145644
CREATED:20230228T173524Z
LAST-MODIFIED:20230228T173524Z
UID:8560-1685577600-1685663999@inhiswakes.com
SUMMARY:D2R - Smith Lake\, AL
DESCRIPTION:
URL:https://inhiswakes.com/event/d2r-smith-lake-al/
END:VEVENT
BEGIN:VEVENT
DTSTART;VALUE=DATE:20230531
DTEND;VALUE=DATE:20230601
DTSTAMP:20260425T145644
CREATED:20230228T173416Z
LAST-MODIFIED:20230228T173416Z
UID:8558-1685491200-1685577599@inhiswakes.com
SUMMARY:D2R - Luke's Camp - Gainesville\, GA
DESCRIPTION:
URL:https://inhiswakes.com/event/d2r-lukes-camp-gainesville-ga/
END:VEVENT
BEGIN:VEVENT
DTSTART;TZID=UTC:20230526T080000
DTEND;TZID=UTC:20230530T170000
DTSTAMP:20260425T145644
CREATED:20230228T172351Z
LAST-MODIFIED:20230228T172351Z
UID:8556-1685088000-1685466000@inhiswakes.com
SUMMARY:Nautique Masters - Calloway Gardens\, GA
DESCRIPTION:
URL:https://inhiswakes.com/event/nautique-masters-calloway-gardens-ga-3/
END:VEVENT
BEGIN:VEVENT
DTSTART;VALUE=DATE:20230524
DTEND;VALUE=DATE:20230525
DTSTAMP:20260425T145644
CREATED:20230228T172138Z
LAST-MODIFIED:20230228T172218Z
UID:8553-1684886400-1684972799@inhiswakes.com
SUMMARY:D2R - FLYCA - Camp Blanding\, FL
DESCRIPTION:
URL:https://inhiswakes.com/event/d2r-flyca-fort-blanding-fl-2/
END:VEVENT
BEGIN:VEVENT
DTSTART;VALUE=DATE:20230523
DTEND;VALUE=DATE:20230524
DTSTAMP:20260425T145644
CREATED:20230228T172051Z
LAST-MODIFIED:20230228T172051Z
UID:8551-1684800000-1684886399@inhiswakes.com
SUMMARY:D2R - FLYCA - Fort Blanding\, FL
DESCRIPTION:
URL:https://inhiswakes.com/event/d2r-flyca-fort-blanding-fl/
END:VEVENT
BEGIN:VEVENT
DTSTART;VALUE=DATE:20230520
DTEND;VALUE=DATE:20230521
DTSTAMP:20260425T145644
CREATED:20230228T171948Z
LAST-MODIFIED:20230228T171948Z
UID:8549-1684540800-1684627199@inhiswakes.com
SUMMARY:D2R - TBA - Orlando\, FL
DESCRIPTION:
URL:https://inhiswakes.com/event/d2r-tba-orlando-fl/
END:VEVENT
BEGIN:VEVENT
DTSTART;VALUE=DATE:20230516
DTEND;VALUE=DATE:20230517
DTSTAMP:20260425T145644
CREATED:20230228T171047Z
LAST-MODIFIED:20230228T171047Z
UID:8543-1684195200-1684281599@inhiswakes.com
SUMMARY:D2R - Samaritan Village - Orlando\, FL
DESCRIPTION:This is a partnership event with Correct Craft and OWC cable park
URL:https://inhiswakes.com/event/d2r-samaritan-village-orlando-fl/
END:VEVENT
BEGIN:VEVENT
DTSTART;VALUE=DATE:20230513
DTEND;VALUE=DATE:20230514
DTSTAMP:20260425T145644
CREATED:20230228T171853Z
LAST-MODIFIED:20230303T182410Z
UID:8547-1683936000-1684022399@inhiswakes.com
SUMMARY:D2R - JAX Boy Scouts - Melrose\, FL
DESCRIPTION:
URL:https://inhiswakes.com/event/d2r-jax-boy-scouts-lake-swan-fl/
END:VEVENT
BEGIN:VEVENT
DTSTART;VALUE=DATE:20230512
DTEND;VALUE=DATE:20230513
DTSTAMP:20260425T145644
CREATED:20230228T171458Z
LAST-MODIFIED:20230303T182443Z
UID:8545-1683849600-1683935999@inhiswakes.com
SUMMARY:D2R - Sheriff's Boys Ranch - Melrose\, FL
DESCRIPTION:
URL:https://inhiswakes.com/event/d2r-sheriffs-boys-ranch-lake-swan-fl/
END:VEVENT
END:VCALENDAR