BEGIN:VCALENDAR
VERSION:2.0
PRODID:-//In His Wakes - ECPv6.15.13//NONSGML v1.0//EN
CALSCALE:GREGORIAN
METHOD:PUBLISH
X-WR-CALNAME:In His Wakes
X-ORIGINAL-URL:https://inhiswakes.com
X-WR-CALDESC:Events for In His Wakes
REFRESH-INTERVAL;VALUE=DURATION:PT1H
X-Robots-Tag:noindex
X-PUBLISHED-TTL:PT1H
BEGIN:VTIMEZONE
TZID:UTC
BEGIN:STANDARD
TZOFFSETFROM:+0000
TZOFFSETTO:+0000
TZNAME:UTC
DTSTART:20250101T000000
END:STANDARD
END:VTIMEZONE
BEGIN:VEVENT
DTSTART;VALUE=DATE:20260731
DTEND;VALUE=DATE:20260801
DTSTAMP:20260425T104657
CREATED:20260403T160249Z
LAST-MODIFIED:20260403T160249Z
UID:8896-1785456000-1785542399@inhiswakes.com
SUMMARY:HAPPY VALLEY TC D2R - WHISKEY TOWN\, CA
DESCRIPTION:
URL:https://inhiswakes.com/event/happy-valley-tc-d2r-whiskey-town-ca/
END:VEVENT
BEGIN:VEVENT
DTSTART;VALUE=DATE:20260803
DTEND;VALUE=DATE:20260804
DTSTAMP:20260425T104657
CREATED:20260403T160355Z
LAST-MODIFIED:20260403T160355Z
UID:8898-1785715200-1785801599@inhiswakes.com
SUMMARY:KOINONIA HOMES D2R - SHERIDAN\, CA
DESCRIPTION:
URL:https://inhiswakes.com/event/koinonia-homes-d2r-sheridan-ca/
END:VEVENT
BEGIN:VEVENT
DTSTART;VALUE=DATE:20260804
DTEND;VALUE=DATE:20260805
DTSTAMP:20260425T104657
CREATED:20260403T160550Z
LAST-MODIFIED:20260403T160550Z
UID:8900-1785801600-1785887999@inhiswakes.com
SUMMARY:YUBA CITY TC  D2R - SHERIDAN\, CA
DESCRIPTION:
URL:https://inhiswakes.com/event/yuba-city-tc-d2r-sheridan-ca/
END:VEVENT
BEGIN:VEVENT
DTSTART;VALUE=DATE:20260821
DTEND;VALUE=DATE:20260822
DTSTAMP:20260425T104657
CREATED:20260403T160710Z
LAST-MODIFIED:20260403T160710Z
UID:8902-1787270400-1787356799@inhiswakes.com
SUMMARY:JOURNEY YOUTH D2R - SISTERS\, OR
DESCRIPTION:
URL:https://inhiswakes.com/event/journey-youth-d2r-sisters-or/
END:VEVENT
BEGIN:VEVENT
DTSTART;VALUE=DATE:20260822
DTEND;VALUE=DATE:20260823
DTSTAMP:20260425T104657
CREATED:20260403T160803Z
LAST-MODIFIED:20260403T160803Z
UID:8904-1787356800-1787443199@inhiswakes.com
SUMMARY:JOURNEY YOUTH D2R - SISTERS\, OR
DESCRIPTION:
URL:https://inhiswakes.com/event/journey-youth-d2r-sisters-or-2/
END:VEVENT
END:VCALENDAR