BEGIN:VCALENDAR
VERSION:2.0
PRODID:-//In His Wakes - ECPv6.15.13//NONSGML v1.0//EN
CALSCALE:GREGORIAN
METHOD:PUBLISH
X-WR-CALNAME:In His Wakes
X-ORIGINAL-URL:https://inhiswakes.com
X-WR-CALDESC:Events for In His Wakes
REFRESH-INTERVAL;VALUE=DURATION:PT1H
X-Robots-Tag:noindex
X-PUBLISHED-TTL:PT1H
BEGIN:VTIMEZONE
TZID:UTC
BEGIN:STANDARD
TZOFFSETFROM:+0000
TZOFFSETTO:+0000
TZNAME:UTC
DTSTART:20190101T000000
END:STANDARD
END:VTIMEZONE
BEGIN:VEVENT
DTSTART;VALUE=DATE:20200717
DTEND;VALUE=DATE:20200718
DTSTAMP:20260426T020219
CREATED:20200221T002839Z
LAST-MODIFIED:20200221T002839Z
UID:5579-1594944000-1595030399@inhiswakes.com
SUMMARY:Polson\, MT D2R - Group TBA
DESCRIPTION:
URL:https://inhiswakes.com/event/polson-mt-d2r-group-tba/
LOCATION:Flathead Lake\, Polson\, MT
END:VEVENT
BEGIN:VEVENT
DTSTART;VALUE=DATE:20200716
DTEND;VALUE=DATE:20200717
DTSTAMP:20260426T020219
CREATED:20200221T002729Z
LAST-MODIFIED:20200221T002729Z
UID:5576-1594857600-1594943999@inhiswakes.com
SUMMARY:Missoula Adult and Teen Challenge - D2R
DESCRIPTION:
URL:https://inhiswakes.com/event/missoula-adult-and-teen-challenge-d2r/
LOCATION:Flathead Lake\, Polson\, MT
END:VEVENT
BEGIN:VEVENT
DTSTART;VALUE=DATE:20200708
DTEND;VALUE=DATE:20200709
DTSTAMP:20260426T020219
CREATED:20200221T002513Z
LAST-MODIFIED:20200221T002513Z
UID:5574-1594166400-1594252799@inhiswakes.com
SUMMARY:Big Lake Oregon - D2R - Group TBA
DESCRIPTION:
URL:https://inhiswakes.com/event/big-lake-oregon-d2r-group-tba/
LOCATION:Big Lake\, OR\, Big Lake\, OR\, United States
END:VEVENT
BEGIN:VEVENT
DTSTART;VALUE=DATE:20200707
DTEND;VALUE=DATE:20200708
DTSTAMP:20260426T020219
CREATED:20200221T002306Z
LAST-MODIFIED:20200221T002306Z
UID:5570-1594080000-1594166399@inhiswakes.com
SUMMARY:Willamette Valley Adult & Teen Challenge - D2R
DESCRIPTION:
URL:https://inhiswakes.com/event/willamette-valley-adult-teen-challenge-d2r/
LOCATION:Big Lake\, OR\, Big Lake\, OR\, United States
END:VEVENT
BEGIN:VEVENT
DTSTART;VALUE=DATE:20200706
DTEND;VALUE=DATE:20200707
DTSTAMP:20260426T020219
CREATED:20200221T002116Z
LAST-MODIFIED:20200221T002116Z
UID:5567-1593993600-1594079999@inhiswakes.com
SUMMARY:Denver Rescue Mission - D2R
DESCRIPTION:
URL:https://inhiswakes.com/event/denver-rescue-mission-d2r/
LOCATION:Loveland Lake\, Loveland\, CO
END:VEVENT
BEGIN:VEVENT
DTSTART;TZID=UTC:20200622T080000
DTEND;TZID=UTC:20200626T170000
DTSTAMP:20260426T020219
CREATED:20200221T001105Z
LAST-MODIFIED:20200221T001105Z
UID:5563-1592812800-1593190800@inhiswakes.com
SUMMARY:Sheridan\, WY Kids Life Wakeboard Camp and Outreach Week
DESCRIPTION:
URL:https://inhiswakes.com/event/sheridan-wy-kids-life-wakeboard-camp-and-outreach-week/
LOCATION:Tongue River Res\, Dexter\, MT
END:VEVENT
BEGIN:VEVENT
DTSTART;VALUE=DATE:20200619
DTEND;VALUE=DATE:20200620
DTSTAMP:20260426T020219
CREATED:20200221T000425Z
LAST-MODIFIED:20200221T000425Z
UID:5561-1592524800-1592611199@inhiswakes.com
SUMMARY:Detroit Lakes Boys & Girls Club - D2R
DESCRIPTION:
URL:https://inhiswakes.com/event/detroit-lakes-boys-girls-club-d2r/
LOCATION:Detroit Lakes\, MN\, Detroit Lakes\, MN\, United States
END:VEVENT
BEGIN:VEVENT
DTSTART;VALUE=DATE:20200618
DTEND;VALUE=DATE:20200619
DTSTAMP:20260426T020219
CREATED:20200221T000228Z
LAST-MODIFIED:20200221T000228Z
UID:5558-1592438400-1592524799@inhiswakes.com
SUMMARY:Treehouse Youth - D2R
DESCRIPTION:
URL:https://inhiswakes.com/event/treehouse-youth-d2r/
LOCATION:Medicine Lake\, Minneapolis\, MN
END:VEVENT
BEGIN:VEVENT
DTSTART;TZID=UTC:20200617T080000
DTEND;TZID=UTC:20200617T170000
DTSTAMP:20260426T020219
CREATED:20200220T235524Z
LAST-MODIFIED:20200220T235524Z
UID:5551-1592380800-1592413200@inhiswakes.com
SUMMARY:Lake Kristi D2R - Day 3
DESCRIPTION:Aces for Autism
URL:https://inhiswakes.com/event/lake-kristi-d2r-day-3/
LOCATION:Lake Kristi\, NC
END:VEVENT
BEGIN:VEVENT
DTSTART;VALUE=DATE:20200616
DTEND;VALUE=DATE:20200617
DTSTAMP:20260426T020219
CREATED:20200220T235937Z
LAST-MODIFIED:20200220T235937Z
UID:5556-1592265600-1592351999@inhiswakes.com
SUMMARY:Brainerd Adult and Teen Challenge - D2R Day 2
DESCRIPTION:
URL:https://inhiswakes.com/event/brainerd-adult-and-teen-challenge-d2r-day-2/
LOCATION:Cragun’s Resort\, Brainerd\, MN
END:VEVENT
BEGIN:VEVENT
DTSTART;VALUE=DATE:20200616
DTEND;VALUE=DATE:20200617
DTSTAMP:20260426T020219
CREATED:20200220T235418Z
LAST-MODIFIED:20200220T235418Z
UID:5549-1592265600-1592351999@inhiswakes.com
SUMMARY:Lake Kristi D2R - Day 2
DESCRIPTION:Raising young men.
URL:https://inhiswakes.com/event/lake-kristi-d2r-day-2/
LOCATION:Lake Kristi\, NC
END:VEVENT
BEGIN:VEVENT
DTSTART;VALUE=DATE:20200615
DTEND;VALUE=DATE:20200616
DTSTAMP:20260426T020219
CREATED:20200220T235820Z
LAST-MODIFIED:20200220T235820Z
UID:5553-1592179200-1592265599@inhiswakes.com
SUMMARY:Lake Kristi D2R - Day 1
DESCRIPTION:
URL:https://inhiswakes.com/event/lake-kristi-d2r-day-1-2/
LOCATION:Cragun’s Resort\, Brainerd\, MN
END:VEVENT
BEGIN:VEVENT
DTSTART;VALUE=DATE:20200615
DTEND;VALUE=DATE:20200616
DTSTAMP:20260426T020219
CREATED:20200220T235312Z
LAST-MODIFIED:20200220T235312Z
UID:5547-1592179200-1592265599@inhiswakes.com
SUMMARY:Lake Kristi D2R - Day 1
DESCRIPTION:Foster Care Group
URL:https://inhiswakes.com/event/lake-kristi-d2r-day-1/
LOCATION:Lake Kristi\, NC
END:VEVENT
BEGIN:VEVENT
DTSTART;VALUE=DATE:20200612
DTEND;VALUE=DATE:20200613
DTSTAMP:20260426T020219
CREATED:20200220T235052Z
LAST-MODIFIED:20200220T235052Z
UID:5545-1591920000-1592006399@inhiswakes.com
SUMMARY:Sunny Crest Youth - D2R
DESCRIPTION:
URL:https://inhiswakes.com/event/sunny-crest-youth-d2r/
LOCATION:Clarksville\, MI
END:VEVENT
BEGIN:VEVENT
DTSTART;VALUE=DATE:20200612
DTEND;VALUE=DATE:20200613
DTSTAMP:20260426T020219
CREATED:20200220T234854Z
LAST-MODIFIED:20200220T234854Z
UID:5543-1591920000-1592006399@inhiswakes.com
SUMMARY:Nashville Mercy Multiplied - D2R
DESCRIPTION:
URL:https://inhiswakes.com/event/nashville-mercy-multiplied-d2r/
LOCATION:Nashville\, TN
END:VEVENT
BEGIN:VEVENT
DTSTART;VALUE=DATE:20200611
DTEND;VALUE=DATE:20200612
DTSTAMP:20260426T020219
CREATED:20200220T234730Z
LAST-MODIFIED:20200220T234730Z
UID:5540-1591833600-1591919999@inhiswakes.com
SUMMARY:Nashville - D2R Day 1
DESCRIPTION:
URL:https://inhiswakes.com/event/nashville-d2r-day-1/
LOCATION:Cumberland River\, Nashville\, TN
END:VEVENT
BEGIN:VEVENT
DTSTART;VALUE=DATE:20200611
DTEND;VALUE=DATE:20200612
DTSTAMP:20260426T020219
CREATED:20200220T234612Z
LAST-MODIFIED:20200220T234612Z
UID:5537-1591833600-1591919999@inhiswakes.com
SUMMARY:Oconomowoc Youth - D2R
DESCRIPTION:
URL:https://inhiswakes.com/event/oconomowoc-youth-d2r/
LOCATION:Still Water Lakes\, Oconomowoc\, WI
END:VEVENT
BEGIN:VEVENT
DTSTART;VALUE=DATE:20200610
DTEND;VALUE=DATE:20200611
DTSTAMP:20260426T020219
CREATED:20200220T234352Z
LAST-MODIFIED:20200220T234352Z
UID:5534-1591747200-1591833599@inhiswakes.com
SUMMARY:Rockford Kids - D2R
DESCRIPTION:
URL:https://inhiswakes.com/event/rockford-kids-d2r/
LOCATION:Lutherdale Camp\, Elkhorn\, WI
END:VEVENT
BEGIN:VEVENT
DTSTART;VALUE=DATE:20200608
DTEND;VALUE=DATE:20200609
DTSTAMP:20260426T020219
CREATED:20200220T234158Z
LAST-MODIFIED:20200220T234158Z
UID:5531-1591574400-1591660799@inhiswakes.com
SUMMARY:Idols Aside - D2R
DESCRIPTION:
URL:https://inhiswakes.com/event/idols-aside-d2r/
LOCATION:Paducah\, Kentucky
END:VEVENT
BEGIN:VEVENT
DTSTART;VALUE=DATE:20200608
DTEND;VALUE=DATE:20200609
DTSTAMP:20260426T020219
CREATED:20200220T233944Z
LAST-MODIFIED:20200220T233944Z
UID:5528-1591574400-1591660799@inhiswakes.com
SUMMARY:Ames Boys & Girls Club - D2R
DESCRIPTION:
URL:https://inhiswakes.com/event/ames-boys-girls-club-d2r/
LOCATION:Dream Lake\, Huxley\, IA
END:VEVENT
BEGIN:VEVENT
DTSTART;VALUE=DATE:20200606
DTEND;VALUE=DATE:20200607
DTSTAMP:20260426T020219
CREATED:20200220T233613Z
LAST-MODIFIED:20200220T233613Z
UID:5525-1591401600-1591487999@inhiswakes.com
SUMMARY:Hope Kids - D2R
DESCRIPTION:
URL:https://inhiswakes.com/event/hope-kids-d2r/
LOCATION:Onaga\, KS
END:VEVENT
BEGIN:VEVENT
DTSTART;VALUE=DATE:20200604
DTEND;VALUE=DATE:20200605
DTSTAMP:20260426T020219
CREATED:20200220T233427Z
LAST-MODIFIED:20200220T233427Z
UID:5522-1591228800-1591315199@inhiswakes.com
SUMMARY:Mercy Multiplied Monroe - D2R
DESCRIPTION:
URL:https://inhiswakes.com/event/mercy-multiplied-monroe-d2r/
LOCATION:Jimmie Davis State Park\, Monroe\, LA
END:VEVENT
BEGIN:VEVENT
DTSTART;TZID=UTC:20200602T080000
DTEND;TZID=UTC:20200602T170000
DTSTAMP:20260426T020219
CREATED:20200220T232856Z
LAST-MODIFIED:20200220T232856Z
UID:5518-1591084800-1591117200@inhiswakes.com
SUMMARY:Smith Lake D2R Day 2
DESCRIPTION:
URL:https://inhiswakes.com/event/smith-lake-d2r-day-2/
LOCATION:Smith Lake\, AL
END:VEVENT
BEGIN:VEVENT
DTSTART;VALUE=DATE:20200601
DTEND;VALUE=DATE:20200602
DTSTAMP:20260426T020219
CREATED:20200601T232751Z
LAST-MODIFIED:20200220T233035Z
UID:5516-1590969600-1591055999@inhiswakes.com
SUMMARY:Smith Lake D2R Day 1
DESCRIPTION:
URL:https://inhiswakes.com/event/smith-lake-d2r-day-1/
LOCATION:Smith Lake\, AL
END:VEVENT
BEGIN:VEVENT
DTSTART;VALUE=DATE:20200601
DTEND;VALUE=DATE:20200602
DTSTAMP:20260426T020219
CREATED:20200220T232641Z
LAST-MODIFIED:20200220T233114Z
UID:5513-1590969600-1591055999@inhiswakes.com
SUMMARY:Brookwood Home D2R
DESCRIPTION:
URL:https://inhiswakes.com/event/brookwood-home-d2r/
LOCATION:August Lakes
END:VEVENT
BEGIN:VEVENT
DTSTART;TZID=UTC:20200531T080000
DTEND;TZID=UTC:20200531T090000
DTSTAMP:20260426T020219
CREATED:20200220T233234Z
LAST-MODIFIED:20200220T233234Z
UID:5520-1590912000-1590915600@inhiswakes.com
SUMMARY:Boat Church - Smith Lake
DESCRIPTION:
URL:https://inhiswakes.com/event/boat-church-smith-lake/
LOCATION:NC
END:VEVENT
BEGIN:VEVENT
DTSTART;VALUE=DATE:20200530
DTEND;VALUE=DATE:20200531
DTSTAMP:20260426T020219
CREATED:20200220T232211Z
LAST-MODIFIED:20200220T232211Z
UID:5510-1590796800-1590883199@inhiswakes.com
SUMMARY:Christ's Haven for Children D2R
DESCRIPTION:
URL:https://inhiswakes.com/event/christs-haven-for-children-d2r/
LOCATION:Mill Creek Res.\, Ft Worth\, TX
END:VEVENT
BEGIN:VEVENT
DTSTART;VALUE=DATE:20200527
DTEND;VALUE=DATE:20200528
DTSTAMP:20260426T020219
CREATED:20200220T231758Z
LAST-MODIFIED:20200220T231758Z
UID:5508-1590537600-1590623999@inhiswakes.com
SUMMARY:Northport Baptist Youth Event
DESCRIPTION:
URL:https://inhiswakes.com/event/northport-baptist-youth-event/
LOCATION:Breezy Point\, AL\, Northport\, AL
END:VEVENT
BEGIN:VEVENT
DTSTART;TZID=UTC:20200526T080000
DTEND;TZID=UTC:20200526T170000
DTSTAMP:20260426T020219
CREATED:20200526T002919Z
LAST-MODIFIED:20200526T003259Z
UID:5729-1590480000-1590512400@inhiswakes.com
SUMMARY:Mercy Multiplied - Lincoln \, CA 2019
DESCRIPTION:
URL:https://inhiswakes.com/event/mercy-multiplied-lincoln-ca-2019/
LOCATION:NC
END:VEVENT
BEGIN:VEVENT
DTSTART;VALUE=DATE:20200526
DTEND;VALUE=DATE:20200527
DTSTAMP:20260426T020219
CREATED:20200220T231551Z
LAST-MODIFIED:20200220T231551Z
UID:5505-1590451200-1590537599@inhiswakes.com
SUMMARY:Northport\, AL D2R
DESCRIPTION:
URL:https://inhiswakes.com/event/northport-al-d2r-3/
LOCATION:Breezy Point\, AL\, Northport\, AL
END:VEVENT
END:VCALENDAR