BEGIN:VCALENDAR
VERSION:2.0
PRODID:-//In His Wakes - ECPv6.15.13//NONSGML v1.0//EN
CALSCALE:GREGORIAN
METHOD:PUBLISH
X-WR-CALNAME:In His Wakes
X-ORIGINAL-URL:https://inhiswakes.com
X-WR-CALDESC:Events for In His Wakes
REFRESH-INTERVAL;VALUE=DURATION:PT1H
X-Robots-Tag:noindex
X-PUBLISHED-TTL:PT1H
BEGIN:VTIMEZONE
TZID:UTC
BEGIN:STANDARD
TZOFFSETFROM:+0000
TZOFFSETTO:+0000
TZNAME:UTC
DTSTART:20190101T000000
END:STANDARD
END:VTIMEZONE
BEGIN:VEVENT
DTSTART;VALUE=DATE:20210608
DTEND;VALUE=DATE:20210609
DTSTAMP:20260426T020219
CREATED:20210401T184927Z
LAST-MODIFIED:20210401T184927Z
UID:5841-1623110400-1623196799@inhiswakes.com
SUMMARY:Lake Kristi - D2R - Aces for Autism
DESCRIPTION:
URL:https://inhiswakes.com/event/lake-kristi-d2r-aces-for-autism/
LOCATION:Lake Kristi\, Grimesland\, NC
END:VEVENT
BEGIN:VEVENT
DTSTART;VALUE=DATE:20210607
DTEND;VALUE=DATE:20210608
DTSTAMP:20260426T020219
CREATED:20210401T184757Z
LAST-MODIFIED:20210401T184757Z
UID:5839-1623024000-1623110399@inhiswakes.com
SUMMARY:Lake Kristi - D2R - Daughters of Worth
DESCRIPTION:
URL:https://inhiswakes.com/event/lake-kristi-d2r-daughters-of-worth/
LOCATION:Lake Kristi\, Grimesland\, NC
END:VEVENT
BEGIN:VEVENT
DTSTART;TZID=UTC:20210606T080000
DTEND;TZID=UTC:20210610T170000
DTSTAMP:20260426T020219
CREATED:20210401T184611Z
LAST-MODIFIED:20210401T184611Z
UID:5836-1622966400-1623344400@inhiswakes.com
SUMMARY:Awaken Wake Camp
DESCRIPTION:We will be sending a team to help support Kirby Liesman with this amazing outreach time to young wakeboarders.
URL:https://inhiswakes.com/event/awaken-wake-camp/
LOCATION:Lake of the Ozarks\, MO
END:VEVENT
BEGIN:VEVENT
DTSTART;VALUE=DATE:20210605
DTEND;VALUE=DATE:20210606
DTSTAMP:20260426T020219
CREATED:20210401T183802Z
LAST-MODIFIED:20210401T183802Z
UID:5829-1622851200-1622937599@inhiswakes.com
SUMMARY:Lake Kristi - D2R - Group TBA
DESCRIPTION:
URL:https://inhiswakes.com/event/lake-kristi-d2r-group-tba/
LOCATION:Lake Kristi\, Grimesland\, NC
END:VEVENT
BEGIN:VEVENT
DTSTART;VALUE=DATE:20210602
DTEND;VALUE=DATE:20210603
DTSTAMP:20260426T020219
CREATED:20210401T183209Z
LAST-MODIFIED:20210401T183209Z
UID:5826-1622592000-1622678399@inhiswakes.com
SUMMARY:Skier's Marine ATL - D2R - Group TBD
DESCRIPTION:
URL:https://inhiswakes.com/event/skiers-marine-atl-d2r-group-tbd/
LOCATION:TBA\, Atlanta\, GA
END:VEVENT
BEGIN:VEVENT
DTSTART;TZID=UTC:20210528T080000
DTEND;TZID=UTC:20210531T170000
DTSTAMP:20260426T020219
CREATED:20210401T183948Z
LAST-MODIFIED:20210401T184238Z
UID:5832-1622188800-1622480400@inhiswakes.com
SUMMARY:Nautique Masters - Calloway Gardens\, GA
DESCRIPTION:We will have a booth once again at the Masters.  This is the primer event in water skiing!  I highly recommend you come and enjoy this amazing competition Nautique and the athletes put on!  Make sure you stop by our booth as well.
URL:https://inhiswakes.com/event/nautique-masters-calloway-gardens-ga-2/
LOCATION:Calloway Gardens\, GA
END:VEVENT
BEGIN:VEVENT
DTSTART;VALUE=DATE:20210523
DTEND;VALUE=DATE:20210524
DTSTAMP:20260426T020219
CREATED:20210406T223243Z
LAST-MODIFIED:20210406T223243Z
UID:5918-1621728000-1621814399@inhiswakes.com
SUMMARY:Atlanta\, GA - D2R
DESCRIPTION:
URL:https://inhiswakes.com/event/atlanta-ga-d2r/
END:VEVENT
BEGIN:VEVENT
DTSTART;VALUE=DATE:20210516
DTEND;VALUE=DATE:20210517
DTSTAMP:20260426T020219
CREATED:20210414T095858Z
LAST-MODIFIED:20210414T100154Z
UID:5922-1621123200-1621209599@inhiswakes.com
SUMMARY:Aburndale\, FL - D2R - Sheriffs Girls Villas
DESCRIPTION:
URL:https://inhiswakes.com/event/aburndale-fl-d2r-sheriffs-girls-villas/
LOCATION:lake Arietta
END:VEVENT
BEGIN:VEVENT
DTSTART;VALUE=DATE:20210515
DTEND;VALUE=DATE:20210516
DTSTAMP:20260426T020219
CREATED:20210401T181609Z
LAST-MODIFIED:20210401T181609Z
UID:5822-1621036800-1621123199@inhiswakes.com
SUMMARY:SGR - D2R Auburndale\, FL
DESCRIPTION:
URL:https://inhiswakes.com/event/sgr-d2r-auburndale-fl/
END:VEVENT
BEGIN:VEVENT
DTSTART;VALUE=DATE:20210514
DTEND;VALUE=DATE:20210515
DTSTAMP:20260426T020219
CREATED:20210414T100042Z
LAST-MODIFIED:20210414T100042Z
UID:5924-1620950400-1621036799@inhiswakes.com
SUMMARY:Aburndale\, FL - D2R - Edgewood Youth Ranch
DESCRIPTION:
URL:https://inhiswakes.com/event/aburndale-fl-d2r-edgewood-youth-ranch/
LOCATION:lake Arietta
END:VEVENT
BEGIN:VEVENT
DTSTART;VALUE=DATE:20210514
DTEND;VALUE=DATE:20210515
DTSTAMP:20260426T020219
CREATED:20210401T182144Z
LAST-MODIFIED:20210401T182338Z
UID:5824-1620950400-1621036799@inhiswakes.com
SUMMARY:Edgewood Youth Ranch - D2R Auburndale\, FL - Date TBA
DESCRIPTION:
URL:https://inhiswakes.com/event/edgewood-youth-ranch-d2r-auburndale-fl-date-tba/
LOCATION:Auburndale\, FL
END:VEVENT
BEGIN:VEVENT
DTSTART;VALUE=DATE:20210506
DTEND;VALUE=DATE:20210507
DTSTAMP:20260426T020219
CREATED:20210414T100534Z
LAST-MODIFIED:20210414T100534Z
UID:5929-1620259200-1620345599@inhiswakes.com
SUMMARY:Lake Worth\, FL - D2R - Unified Dreams
DESCRIPTION:
URL:https://inhiswakes.com/event/lake-worth-fl-d2r-unified-dreams/
LOCATION:John PrincePark
END:VEVENT
BEGIN:VEVENT
DTSTART;TZID=UTC:20200901T080000
DTEND;TZID=UTC:20200901T170000
DTSTAMP:20260426T020219
CREATED:20200221T023757Z
LAST-MODIFIED:20200221T023819Z
UID:5617-1598947200-1598979600@inhiswakes.com
SUMMARY:September Events - TBA
DESCRIPTION:
URL:https://inhiswakes.com/event/september-events-tba/
END:VEVENT
BEGIN:VEVENT
DTSTART;VALUE=DATE:20200826
DTEND;VALUE=DATE:20200827
DTSTAMP:20260426T020219
CREATED:20200221T023440Z
LAST-MODIFIED:20200221T023440Z
UID:5609-1598400000-1598486399@inhiswakes.com
SUMMARY:Seattle Adult & Teen Challenge - D2R
DESCRIPTION:
URL:https://inhiswakes.com/event/seattle-adult-teen-challenge-d2r/
LOCATION:Koppert Lake\, Winlock\, WA
END:VEVENT
BEGIN:VEVENT
DTSTART;VALUE=DATE:20200825
DTEND;VALUE=DATE:20200826
DTSTAMP:20260426T020219
CREATED:20200221T023711Z
LAST-MODIFIED:20200221T023711Z
UID:5615-1598313600-1598399999@inhiswakes.com
SUMMARY:Simonka House - D2R
DESCRIPTION:
URL:https://inhiswakes.com/event/simonka-house-d2r/
LOCATION:Tug Lake\, Camas\, WA
END:VEVENT
BEGIN:VEVENT
DTSTART;VALUE=DATE:20200823
DTEND;VALUE=DATE:20200824
DTSTAMP:20260426T020219
CREATED:20200221T023612Z
LAST-MODIFIED:20200221T023612Z
UID:5612-1598140800-1598227199@inhiswakes.com
SUMMARY:Portland Adult & Teen Challenge -  D2R
DESCRIPTION:
URL:https://inhiswakes.com/event/portland-adult-teen-challenge-d2r/
LOCATION:Tug Lake\, Camas\, WA
END:VEVENT
BEGIN:VEVENT
DTSTART;VALUE=DATE:20200816
DTEND;VALUE=DATE:20200817
DTSTAMP:20260426T020219
CREATED:20200221T023302Z
LAST-MODIFIED:20200221T023302Z
UID:5607-1597536000-1597622399@inhiswakes.com
SUMMARY:Central Oregon Adult & Teen Challenge - D2R
DESCRIPTION:
URL:https://inhiswakes.com/event/central-oregon-adult-teen-challenge-d2r/
LOCATION:Haystack Res.\, Culver\, Oregon
END:VEVENT
BEGIN:VEVENT
DTSTART;VALUE=DATE:20200815
DTEND;VALUE=DATE:20200816
DTSTAMP:20260426T020219
CREATED:20200221T023200Z
LAST-MODIFIED:20200221T023200Z
UID:5604-1597449600-1597535999@inhiswakes.com
SUMMARY:Word of Victory Youth - D2R
DESCRIPTION:
URL:https://inhiswakes.com/event/word-of-victory-youth-d2r/
LOCATION:Haystack Res.\, Culver\, Oregon
END:VEVENT
BEGIN:VEVENT
DTSTART;VALUE=DATE:20200804
DTEND;VALUE=DATE:20200805
DTSTAMP:20260426T020219
CREATED:20200221T005459Z
LAST-MODIFIED:20200221T005459Z
UID:5602-1596499200-1596585599@inhiswakes.com
SUMMARY:Lincoln Mercy Multiplied Ministries - D2R
DESCRIPTION:
URL:https://inhiswakes.com/event/lincoln-mercy-multiplied-ministries-d2r/
LOCATION:Camp Far West\, Sheridan\, CA
END:VEVENT
BEGIN:VEVENT
DTSTART;VALUE=DATE:20200803
DTEND;VALUE=DATE:20200804
DTSTAMP:20260426T020219
CREATED:20200221T005401Z
LAST-MODIFIED:20200221T005401Z
UID:5599-1596412800-1596499199@inhiswakes.com
SUMMARY:Koinonia Homes For Teens - D2R
DESCRIPTION:
URL:https://inhiswakes.com/event/koinonia-homes-for-teens-d2r/
LOCATION:Camp Far West\, Sheridan\, CA
END:VEVENT
BEGIN:VEVENT
DTSTART;VALUE=DATE:20200731
DTEND;VALUE=DATE:20200801
DTSTAMP:20260426T020219
CREATED:20200221T005206Z
LAST-MODIFIED:20200221T005206Z
UID:5597-1596153600-1596239999@inhiswakes.com
SUMMARY:Teen Challenge NorWestCal Nevada - D2R
DESCRIPTION:
URL:https://inhiswakes.com/event/teen-challenge-norwestcal-nevada-d2r/
END:VEVENT
BEGIN:VEVENT
DTSTART;VALUE=DATE:20200728
DTEND;VALUE=DATE:20200729
DTSTAMP:20260426T020219
CREATED:20200221T004901Z
LAST-MODIFIED:20200221T004901Z
UID:5594-1595894400-1595980799@inhiswakes.com
SUMMARY:Maine's Youth Dept. of Corrections - D2R
DESCRIPTION:
URL:https://inhiswakes.com/event/maines-youth-dept-of-corrections-d2r/
LOCATION:Little Lake Sebago\, Lake Sebago\, ME
END:VEVENT
BEGIN:VEVENT
DTSTART;VALUE=DATE:20200727
DTEND;VALUE=DATE:20200728
DTSTAMP:20260426T020219
CREATED:20200221T004636Z
LAST-MODIFIED:20200221T004636Z
UID:5591-1595808000-1595894399@inhiswakes.com
SUMMARY:Porterville Community Youth - D2R
DESCRIPTION:
URL:https://inhiswakes.com/event/porterville-community-youth-d2r/
LOCATION:Randy Land\, Porterville\, CA
END:VEVENT
BEGIN:VEVENT
DTSTART;VALUE=DATE:20200724
DTEND;VALUE=DATE:20200725
DTSTAMP:20260426T020219
CREATED:20200221T004504Z
LAST-MODIFIED:20200221T004504Z
UID:5589-1595548800-1595635199@inhiswakes.com
SUMMARY:Boise Adult & Teen Challenge - D2R
DESCRIPTION:
URL:https://inhiswakes.com/event/boise-adult-teen-challenge-d2r/
LOCATION:Lucky Peak State Park\, ID\, Boise\, ID
END:VEVENT
BEGIN:VEVENT
DTSTART;VALUE=DATE:20200722
DTEND;VALUE=DATE:20200723
DTSTAMP:20260426T020219
CREATED:20200221T004348Z
LAST-MODIFIED:20200221T004348Z
UID:5587-1595376000-1595462399@inhiswakes.com
SUMMARY:Kids Life Sheridan\, WY - D2R Day 3
DESCRIPTION:
URL:https://inhiswakes.com/event/kids-life-sheridan-wy-d2r-day-3/
LOCATION:Tongue Res. State Park\, MT
END:VEVENT
BEGIN:VEVENT
DTSTART;TZID=UTC:20200721T080000
DTEND;TZID=UTC:20200721T170000
DTSTAMP:20260426T020219
CREATED:20200221T004255Z
LAST-MODIFIED:20200221T004255Z
UID:5585-1595318400-1595350800@inhiswakes.com
SUMMARY:Kids Life Sheridan\, WY - D2R Day 2
DESCRIPTION:
URL:https://inhiswakes.com/event/kids-life-sheridan-wy-d2r-day-2/
LOCATION:Tongue Res. State Park\, MT
END:VEVENT
BEGIN:VEVENT
DTSTART;VALUE=DATE:20200720
DTEND;VALUE=DATE:20200721
DTSTAMP:20260426T020219
CREATED:20200221T004213Z
LAST-MODIFIED:20200221T004213Z
UID:5583-1595203200-1595289599@inhiswakes.com
SUMMARY:Kids Life Sheridan\, WY - D2R Day 1
DESCRIPTION:
URL:https://inhiswakes.com/event/kids-life-sheridan-wy-d2r-day-1/
LOCATION:Tongue Res. State Park\, MT
END:VEVENT
BEGIN:VEVENT
DTSTART;VALUE=DATE:20200717
DTEND;VALUE=DATE:20200718
DTSTAMP:20260426T020219
CREATED:20200221T004023Z
LAST-MODIFIED:20200221T004023Z
UID:5581-1594944000-1595030399@inhiswakes.com
SUMMARY:Dividing Creek\, NJ - D2R
DESCRIPTION:
URL:https://inhiswakes.com/event/dividing-creek-nj-d2r-2/
END:VEVENT
BEGIN:VEVENT
DTSTART;VALUE=DATE:20200717
DTEND;VALUE=DATE:20200718
DTSTAMP:20260426T020219
CREATED:20200221T002839Z
LAST-MODIFIED:20200221T002839Z
UID:5579-1594944000-1595030399@inhiswakes.com
SUMMARY:Polson\, MT D2R - Group TBA
DESCRIPTION:
URL:https://inhiswakes.com/event/polson-mt-d2r-group-tba/
LOCATION:Flathead Lake\, Polson\, MT
END:VEVENT
BEGIN:VEVENT
DTSTART;VALUE=DATE:20200716
DTEND;VALUE=DATE:20200717
DTSTAMP:20260426T020219
CREATED:20200221T002729Z
LAST-MODIFIED:20200221T002729Z
UID:5576-1594857600-1594943999@inhiswakes.com
SUMMARY:Missoula Adult and Teen Challenge - D2R
DESCRIPTION:
URL:https://inhiswakes.com/event/missoula-adult-and-teen-challenge-d2r/
LOCATION:Flathead Lake\, Polson\, MT
END:VEVENT
END:VCALENDAR