BEGIN:VCALENDAR
VERSION:2.0
PRODID:-//In His Wakes - ECPv6.15.13//NONSGML v1.0//EN
CALSCALE:GREGORIAN
METHOD:PUBLISH
X-WR-CALNAME:In His Wakes
X-ORIGINAL-URL:https://inhiswakes.com
X-WR-CALDESC:Events for In His Wakes
REFRESH-INTERVAL;VALUE=DURATION:PT1H
X-Robots-Tag:noindex
X-PUBLISHED-TTL:PT1H
BEGIN:VTIMEZONE
TZID:UTC
BEGIN:STANDARD
TZOFFSETFROM:+0000
TZOFFSETTO:+0000
TZNAME:UTC
DTSTART:20200101T000000
END:STANDARD
END:VTIMEZONE
BEGIN:VEVENT
DTSTART;VALUE=DATE:20210818
DTEND;VALUE=DATE:20210819
DTSTAMP:20260425T210914
CREATED:20210405T231718Z
LAST-MODIFIED:20210405T231718Z
UID:5902-1629244800-1629331199@inhiswakes.com
SUMMARY:Suttle Lake\, OR - D2R - Teen Challenge
DESCRIPTION:
URL:https://inhiswakes.com/event/suttle-lake-or-d2r-teen-challenge-2/
LOCATION:suttle lake
END:VEVENT
BEGIN:VEVENT
DTSTART;VALUE=DATE:20210816
DTEND;VALUE=DATE:20210817
DTSTAMP:20260425T210914
CREATED:20210405T231515Z
LAST-MODIFIED:20210405T231608Z
UID:5899-1629072000-1629158399@inhiswakes.com
SUMMARY:Suttle Lake\, OR - D2R - Teen Challenge
DESCRIPTION:
URL:https://inhiswakes.com/event/suttle-lake-or-d2r-teen-challenge/
LOCATION:suttle lake
END:VEVENT
BEGIN:VEVENT
DTSTART;VALUE=DATE:20210815
DTEND;VALUE=DATE:20210816
DTSTAMP:20260425T210914
CREATED:20210405T231404Z
LAST-MODIFIED:20210405T231404Z
UID:5897-1628985600-1629071999@inhiswakes.com
SUMMARY:Suttle Lake\, OR - D2R - Portland Teen Challenge
DESCRIPTION:
URL:https://inhiswakes.com/event/suttle-lake-or-d2r-portland-teen-challenge/
END:VEVENT
BEGIN:VEVENT
DTSTART;VALUE=DATE:20210805
DTEND;VALUE=DATE:20210806
DTSTAMP:20260425T210914
CREATED:20210405T230442Z
LAST-MODIFIED:20210405T230442Z
UID:5895-1628121600-1628207999@inhiswakes.com
SUMMARY:Whiskey Town\, CA - D2R - Happy Valley TC
DESCRIPTION:
URL:https://inhiswakes.com/event/whiskey-town-ca-d2r-happy-valley-tc/
END:VEVENT
BEGIN:VEVENT
DTSTART;VALUE=DATE:20210803
DTEND;VALUE=DATE:20210804
DTSTAMP:20260425T210914
CREATED:20210405T224722Z
LAST-MODIFIED:20210405T224722Z
UID:5891-1627948800-1628035199@inhiswakes.com
SUMMARY:Sheridan\, CA - D2R - Mercy Multiplied
DESCRIPTION:
URL:https://inhiswakes.com/event/sheridan-ca-d2r-mercy-multiplied/
LOCATION:Sheridan Ski Club
END:VEVENT
BEGIN:VEVENT
DTSTART;VALUE=DATE:20210802
DTEND;VALUE=DATE:20210803
DTSTAMP:20260425T210914
CREATED:20210405T230227Z
LAST-MODIFIED:20210405T230227Z
UID:5893-1627862400-1627948799@inhiswakes.com
SUMMARY:Porterville\, CA - D2R
DESCRIPTION:
URL:https://inhiswakes.com/event/porterville-ca-d2r/
END:VEVENT
BEGIN:VEVENT
DTSTART;VALUE=DATE:20210802
DTEND;VALUE=DATE:20210803
DTSTAMP:20260425T210914
CREATED:20210405T224621Z
LAST-MODIFIED:20210405T224621Z
UID:5888-1627862400-1627948799@inhiswakes.com
SUMMARY:Sheridan\, CA - D2R - Koinonia Homes
DESCRIPTION:
URL:https://inhiswakes.com/event/sheridan-ca-d2r-koinonia-homes/
LOCATION:Sheridan Ski Club
END:VEVENT
BEGIN:VEVENT
DTSTART;TZID=UTC:20210725T080000
DTEND;TZID=UTC:20210729T170000
DTSTAMP:20260425T210914
CREATED:20210405T185157Z
LAST-MODIFIED:20210405T185157Z
UID:5886-1627200000-1627578000@inhiswakes.com
SUMMARY:Sheridan\, WY - 3 Day Wake Camp
DESCRIPTION:
URL:https://inhiswakes.com/event/sheridan-wy-3-day-wake-camp/
LOCATION:Tongue Res. State Park\, MT
END:VEVENT
BEGIN:VEVENT
DTSTART;VALUE=DATE:20210723
DTEND;VALUE=DATE:20210724
DTSTAMP:20260425T210914
CREATED:20210406T223126Z
LAST-MODIFIED:20210406T223126Z
UID:5916-1626998400-1627084799@inhiswakes.com
SUMMARY:Clemson\, SC - D2R
DESCRIPTION:
URL:https://inhiswakes.com/event/clemson-sc-d2r-4/
END:VEVENT
BEGIN:VEVENT
DTSTART;VALUE=DATE:20210722
DTEND;VALUE=DATE:20210723
DTSTAMP:20260425T210914
CREATED:20210405T184559Z
LAST-MODIFIED:20210405T184559Z
UID:5884-1626912000-1626998399@inhiswakes.com
SUMMARY:Riverton\, WY - D2R - Wind River Reservation
DESCRIPTION:
URL:https://inhiswakes.com/event/riverton-wy-d2r-wind-river-reservation/
END:VEVENT
BEGIN:VEVENT
DTSTART;VALUE=DATE:20210720
DTEND;VALUE=DATE:20210721
DTSTAMP:20260425T210914
CREATED:20210405T183300Z
LAST-MODIFIED:20210405T183300Z
UID:5882-1626739200-1626825599@inhiswakes.com
SUMMARY:Missoula\, MT - D2R
DESCRIPTION:
URL:https://inhiswakes.com/event/missoula-mt-d2r/
LOCATION:Flathead Lake\, Polson\, MT
END:VEVENT
BEGIN:VEVENT
DTSTART;VALUE=DATE:20210719
DTEND;VALUE=DATE:20210720
DTSTAMP:20260425T210914
CREATED:20210405T183148Z
LAST-MODIFIED:20210405T183148Z
UID:5880-1626652800-1626739199@inhiswakes.com
SUMMARY:Missoula\, MT - D2R - Teen Challenge
DESCRIPTION:
URL:https://inhiswakes.com/event/missoula-mt-d2r-teen-challenge/
LOCATION:Flathead Lake\, Polson\, MT
END:VEVENT
BEGIN:VEVENT
DTSTART;VALUE=DATE:20210702
DTEND;VALUE=DATE:20210703
DTSTAMP:20260425T210914
CREATED:20210406T223042Z
LAST-MODIFIED:20210406T223042Z
UID:5914-1625184000-1625270399@inhiswakes.com
SUMMARY:Clemson\, SC - D2R
DESCRIPTION:
URL:https://inhiswakes.com/event/clemson-sc-d2r-3/
END:VEVENT
BEGIN:VEVENT
DTSTART;VALUE=DATE:20210701
DTEND;VALUE=DATE:20210702
DTSTAMP:20260425T210914
CREATED:20210405T183022Z
LAST-MODIFIED:20210405T183022Z
UID:5878-1625097600-1625183999@inhiswakes.com
SUMMARY:Dividing Creek\, NJ - D2R
DESCRIPTION:
URL:https://inhiswakes.com/event/dividing-creek-nj-d2r-3/
END:VEVENT
BEGIN:VEVENT
DTSTART;VALUE=DATE:20210701
DTEND;VALUE=DATE:20210702
DTSTAMP:20260425T210914
CREATED:20210402T005820Z
LAST-MODIFIED:20210402T005820Z
UID:5874-1625097600-1625183999@inhiswakes.com
SUMMARY:Boise\, ID - D2R - Teen Challenge
DESCRIPTION:
URL:https://inhiswakes.com/event/boise-id-d2r-teen-challenge-2/
LOCATION:Lucky Peak State Park\, ID\, Boise\, ID
END:VEVENT
BEGIN:VEVENT
DTSTART;VALUE=DATE:20210628
DTEND;VALUE=DATE:20210629
DTSTAMP:20260425T210914
CREATED:20210401T235004Z
LAST-MODIFIED:20210401T235004Z
UID:5871-1624838400-1624924799@inhiswakes.com
SUMMARY:Delaware\, OH - D2R
DESCRIPTION:
URL:https://inhiswakes.com/event/delaware-oh-d2r-2/
LOCATION:Delaware State Park\, OH
END:VEVENT
BEGIN:VEVENT
DTSTART;VALUE=DATE:20210625
DTEND;VALUE=DATE:20210626
DTSTAMP:20260425T210914
CREATED:20210401T201227Z
LAST-MODIFIED:20210401T201227Z
UID:5869-1624579200-1624665599@inhiswakes.com
SUMMARY:Clarksville\, MI - D2R
DESCRIPTION:
URL:https://inhiswakes.com/event/clarksville-mi-d2r-2/
END:VEVENT
BEGIN:VEVENT
DTSTART;VALUE=DATE:20210625
DTEND;VALUE=DATE:20210626
DTSTAMP:20260425T210914
CREATED:20210401T201148Z
LAST-MODIFIED:20210401T201148Z
UID:5866-1624579200-1624665599@inhiswakes.com
SUMMARY:Detroit Lakes\, MN - D2R
DESCRIPTION:
URL:https://inhiswakes.com/event/detroit-lakes-mn-d2r-2/
LOCATION:Sauers Lake
END:VEVENT
BEGIN:VEVENT
DTSTART;VALUE=DATE:20210625
DTEND;VALUE=DATE:20210626
DTSTAMP:20260425T210914
CREATED:20210401T200943Z
LAST-MODIFIED:20210401T200943Z
UID:5864-1624579200-1624665599@inhiswakes.com
SUMMARY:Minneapolis\, MN - D2R - Treehouse
DESCRIPTION:
URL:https://inhiswakes.com/event/minneapolis-mn-d2r-treehouse/
LOCATION:Medicine Lake\, Minneapolis\, MN
END:VEVENT
BEGIN:VEVENT
DTSTART;VALUE=DATE:20210623
DTEND;VALUE=DATE:20210624
DTSTAMP:20260425T210914
CREATED:20210401T200727Z
LAST-MODIFIED:20210401T200727Z
UID:5862-1624406400-1624492799@inhiswakes.com
SUMMARY:Brainerd\, MN - D2R - Teen Challenge
DESCRIPTION:
URL:https://inhiswakes.com/event/brainerd-mn-d2r-teen-challenge/
LOCATION:Cragun’s Resort\, Brainerd\, MN
END:VEVENT
BEGIN:VEVENT
DTSTART;TZID=UTC:20210622T080000
DTEND;TZID=UTC:20210623T170000
DTSTAMP:20260425T210914
CREATED:20210401T200619Z
LAST-MODIFIED:20210401T200619Z
UID:5860-1624348800-1624467600@inhiswakes.com
SUMMARY:Paducah\, KY - D2R
DESCRIPTION:
URL:https://inhiswakes.com/event/paducah-ky-d2r/
END:VEVENT
BEGIN:VEVENT
DTSTART;VALUE=DATE:20210621
DTEND;VALUE=DATE:20210622
DTSTAMP:20260425T210914
CREATED:20210401T200507Z
LAST-MODIFIED:20210401T200507Z
UID:5858-1624233600-1624319999@inhiswakes.com
SUMMARY:Ames\, IA - D2R
DESCRIPTION:
URL:https://inhiswakes.com/event/ames-ia-d2r-2/
LOCATION:Dream Lake\, Huxley\, IA
END:VEVENT
BEGIN:VEVENT
DTSTART;VALUE=DATE:20210621
DTEND;VALUE=DATE:20210622
DTSTAMP:20260425T210914
CREATED:20210401T195946Z
LAST-MODIFIED:20210401T195946Z
UID:5856-1624233600-1624319999@inhiswakes.com
SUMMARY:Elkhorn\, WI - D2R
DESCRIPTION:
URL:https://inhiswakes.com/event/elkhorn-wi-d2r-3/
LOCATION:Lutherdale Camp\, Elkhorn\, WI
END:VEVENT
BEGIN:VEVENT
DTSTART;VALUE=DATE:20210619
DTEND;VALUE=DATE:20210620
DTSTAMP:20260425T210914
CREATED:20210401T195711Z
LAST-MODIFIED:20210401T195711Z
UID:5854-1624060800-1624147199@inhiswakes.com
SUMMARY:Onega\, KC - D2R
DESCRIPTION:
URL:https://inhiswakes.com/event/onega-kc-d2r/
LOCATION:TBA\, Atlanta\, GA
END:VEVENT
BEGIN:VEVENT
DTSTART;VALUE=DATE:20210619
DTEND;VALUE=DATE:20210620
DTSTAMP:20260425T210914
CREATED:20210401T195609Z
LAST-MODIFIED:20210401T195609Z
UID:5851-1624060800-1624147199@inhiswakes.com
SUMMARY:Christ's Haven Youth Ranch - D2R - Fort Worth\, TX
DESCRIPTION:
URL:https://inhiswakes.com/event/christs-haven-youth-ranch-d2r-fort-worth-tx/
LOCATION:Marine Creek Res.\, Fort Worth\, TX
END:VEVENT
BEGIN:VEVENT
DTSTART;TZID=UTC:20210618T080000
DTEND;TZID=UTC:20210618T170000
DTSTAMP:20260425T210914
CREATED:20210406T222944Z
LAST-MODIFIED:20210406T222944Z
UID:5912-1624003200-1624035600@inhiswakes.com
SUMMARY:Clemson\, SC - D2R
DESCRIPTION:
URL:https://inhiswakes.com/event/clemson-sc-d2r-2/
END:VEVENT
BEGIN:VEVENT
DTSTART;VALUE=DATE:20210617
DTEND;VALUE=DATE:20210618
DTSTAMP:20260425T210914
CREATED:20210408T043243Z
LAST-MODIFIED:20210408T043243Z
UID:5920-1623888000-1623974399@inhiswakes.com
SUMMARY:Nashville\, TN - D2R - Mercy Multiplied
DESCRIPTION:
URL:https://inhiswakes.com/event/nashville-tn-d2r-mercy-multiplied/
END:VEVENT
BEGIN:VEVENT
DTSTART;VALUE=DATE:20210617
DTEND;VALUE=DATE:20210618
DTSTAMP:20260425T210914
CREATED:20210401T194944Z
LAST-MODIFIED:20210401T194944Z
UID:5849-1623888000-1623974399@inhiswakes.com
SUMMARY:Katy\, TX - D2R - August Lakes
DESCRIPTION:
URL:https://inhiswakes.com/event/katy-tx-d2r-august-lakes/
LOCATION:August Lakes
END:VEVENT
BEGIN:VEVENT
DTSTART;VALUE=DATE:20210615
DTEND;VALUE=DATE:20210616
DTSTAMP:20260425T210914
CREATED:20210401T185455Z
LAST-MODIFIED:20210401T185455Z
UID:5847-1623715200-1623801599@inhiswakes.com
SUMMARY:Smith Lake\, AL - D2R - Group TBA
DESCRIPTION:
URL:https://inhiswakes.com/event/smith-lake-al-d2r-group-tba-2/
LOCATION:Smith Lake\, AL
END:VEVENT
BEGIN:VEVENT
DTSTART;VALUE=DATE:20210614
DTEND;VALUE=DATE:20210615
DTSTAMP:20260425T210914
CREATED:20210401T185415Z
LAST-MODIFIED:20210401T185415Z
UID:5845-1623628800-1623715199@inhiswakes.com
SUMMARY:Smith Lake\, AL - D2R - Group TBA
DESCRIPTION:
URL:https://inhiswakes.com/event/smith-lake-al-d2r-group-tba/
LOCATION:Smith Lake\, AL
END:VEVENT
END:VCALENDAR