BEGIN:VCALENDAR
VERSION:2.0
PRODID:-//In His Wakes - ECPv6.15.13//NONSGML v1.0//EN
CALSCALE:GREGORIAN
METHOD:PUBLISH
X-WR-CALNAME:In His Wakes
X-ORIGINAL-URL:https://inhiswakes.com
X-WR-CALDESC:Events for In His Wakes
REFRESH-INTERVAL;VALUE=DURATION:PT1H
X-Robots-Tag:noindex
X-PUBLISHED-TTL:PT1H
BEGIN:VTIMEZONE
TZID:UTC
BEGIN:STANDARD
TZOFFSETFROM:+0000
TZOFFSETTO:+0000
TZNAME:UTC
DTSTART:20210101T000000
END:STANDARD
END:VTIMEZONE
BEGIN:VEVENT
DTSTART;VALUE=DATE:20230602
DTEND;VALUE=DATE:20230603
DTSTAMP:20260425T163125
CREATED:20230228T173549Z
LAST-MODIFIED:20230228T173549Z
UID:8562-1685664000-1685750399@inhiswakes.com
SUMMARY:D2R - Smith Lake\, AL
DESCRIPTION:
URL:https://inhiswakes.com/event/d2r-smith-lake-al-2/
END:VEVENT
BEGIN:VEVENT
DTSTART;VALUE=DATE:20230601
DTEND;VALUE=DATE:20230602
DTSTAMP:20260425T163125
CREATED:20230228T173524Z
LAST-MODIFIED:20230228T173524Z
UID:8560-1685577600-1685663999@inhiswakes.com
SUMMARY:D2R - Smith Lake\, AL
DESCRIPTION:
URL:https://inhiswakes.com/event/d2r-smith-lake-al/
END:VEVENT
BEGIN:VEVENT
DTSTART;VALUE=DATE:20230531
DTEND;VALUE=DATE:20230601
DTSTAMP:20260425T163125
CREATED:20230228T173416Z
LAST-MODIFIED:20230228T173416Z
UID:8558-1685491200-1685577599@inhiswakes.com
SUMMARY:D2R - Luke's Camp - Gainesville\, GA
DESCRIPTION:
URL:https://inhiswakes.com/event/d2r-lukes-camp-gainesville-ga/
END:VEVENT
BEGIN:VEVENT
DTSTART;TZID=UTC:20230526T080000
DTEND;TZID=UTC:20230530T170000
DTSTAMP:20260425T163125
CREATED:20230228T172351Z
LAST-MODIFIED:20230228T172351Z
UID:8556-1685088000-1685466000@inhiswakes.com
SUMMARY:Nautique Masters - Calloway Gardens\, GA
DESCRIPTION:
URL:https://inhiswakes.com/event/nautique-masters-calloway-gardens-ga-3/
END:VEVENT
BEGIN:VEVENT
DTSTART;VALUE=DATE:20230524
DTEND;VALUE=DATE:20230525
DTSTAMP:20260425T163125
CREATED:20230228T172138Z
LAST-MODIFIED:20230228T172218Z
UID:8553-1684886400-1684972799@inhiswakes.com
SUMMARY:D2R - FLYCA - Camp Blanding\, FL
DESCRIPTION:
URL:https://inhiswakes.com/event/d2r-flyca-fort-blanding-fl-2/
END:VEVENT
BEGIN:VEVENT
DTSTART;VALUE=DATE:20230523
DTEND;VALUE=DATE:20230524
DTSTAMP:20260425T163125
CREATED:20230228T172051Z
LAST-MODIFIED:20230228T172051Z
UID:8551-1684800000-1684886399@inhiswakes.com
SUMMARY:D2R - FLYCA - Fort Blanding\, FL
DESCRIPTION:
URL:https://inhiswakes.com/event/d2r-flyca-fort-blanding-fl/
END:VEVENT
BEGIN:VEVENT
DTSTART;VALUE=DATE:20230520
DTEND;VALUE=DATE:20230521
DTSTAMP:20260425T163125
CREATED:20230228T171948Z
LAST-MODIFIED:20230228T171948Z
UID:8549-1684540800-1684627199@inhiswakes.com
SUMMARY:D2R - TBA - Orlando\, FL
DESCRIPTION:
URL:https://inhiswakes.com/event/d2r-tba-orlando-fl/
END:VEVENT
BEGIN:VEVENT
DTSTART;VALUE=DATE:20230516
DTEND;VALUE=DATE:20230517
DTSTAMP:20260425T163125
CREATED:20230228T171047Z
LAST-MODIFIED:20230228T171047Z
UID:8543-1684195200-1684281599@inhiswakes.com
SUMMARY:D2R - Samaritan Village - Orlando\, FL
DESCRIPTION:This is a partnership event with Correct Craft and OWC cable park
URL:https://inhiswakes.com/event/d2r-samaritan-village-orlando-fl/
END:VEVENT
BEGIN:VEVENT
DTSTART;VALUE=DATE:20230513
DTEND;VALUE=DATE:20230514
DTSTAMP:20260425T163125
CREATED:20230228T171853Z
LAST-MODIFIED:20230303T182410Z
UID:8547-1683936000-1684022399@inhiswakes.com
SUMMARY:D2R - JAX Boy Scouts - Melrose\, FL
DESCRIPTION:
URL:https://inhiswakes.com/event/d2r-jax-boy-scouts-lake-swan-fl/
END:VEVENT
BEGIN:VEVENT
DTSTART;VALUE=DATE:20230512
DTEND;VALUE=DATE:20230513
DTSTAMP:20260425T163125
CREATED:20230228T171458Z
LAST-MODIFIED:20230303T182443Z
UID:8545-1683849600-1683935999@inhiswakes.com
SUMMARY:D2R - Sheriff's Boys Ranch - Melrose\, FL
DESCRIPTION:
URL:https://inhiswakes.com/event/d2r-sheriffs-boys-ranch-lake-swan-fl/
END:VEVENT
BEGIN:VEVENT
DTSTART;VALUE=DATE:20220901
DTEND;VALUE=DATE:20220902
DTSTAMP:20260425T163125
CREATED:20220303T172331Z
LAST-MODIFIED:20220303T172331Z
UID:6348-1661990400-1662076799@inhiswakes.com
SUMMARY:September Events - TBA
DESCRIPTION:
URL:https://inhiswakes.com/event/september-events-tba-2/
END:VEVENT
BEGIN:VEVENT
DTSTART;VALUE=DATE:20220831
DTEND;VALUE=DATE:20220901
DTSTAMP:20260425T163125
CREATED:20220303T172241Z
LAST-MODIFIED:20220303T172241Z
UID:6346-1661904000-1661990399@inhiswakes.com
SUMMARY:Alder Lake\, WA - D2R - Graham TC
DESCRIPTION:
URL:https://inhiswakes.com/event/alder-lake-wa-d2r-graham-tc/
END:VEVENT
BEGIN:VEVENT
DTSTART;VALUE=DATE:20220830
DTEND;VALUE=DATE:20220831
DTSTAMP:20260425T163125
CREATED:20220303T172137Z
LAST-MODIFIED:20220303T172137Z
UID:6344-1661817600-1661903999@inhiswakes.com
SUMMARY:Alder Lake\, WA - D2R - Renton TC
DESCRIPTION:
URL:https://inhiswakes.com/event/alder-lake-wa-d2r-renton-tc/
END:VEVENT
BEGIN:VEVENT
DTSTART;VALUE=DATE:20220821
DTEND;VALUE=DATE:20220822
DTSTAMP:20260425T163125
CREATED:20220303T172012Z
LAST-MODIFIED:20220303T172012Z
UID:6342-1661040000-1661126399@inhiswakes.com
SUMMARY:The Cove Palisades\, OR -D2R
DESCRIPTION:
URL:https://inhiswakes.com/event/the-cove-palisades-or-d2r-2/
END:VEVENT
BEGIN:VEVENT
DTSTART;VALUE=DATE:20220820
DTEND;VALUE=DATE:20220821
DTSTAMP:20260425T163125
CREATED:20220303T171947Z
LAST-MODIFIED:20220303T171947Z
UID:6340-1660953600-1661039999@inhiswakes.com
SUMMARY:The Cove Palisades\, OR -D2R
DESCRIPTION:
URL:https://inhiswakes.com/event/the-cove-palisades-or-d2r/
END:VEVENT
BEGIN:VEVENT
DTSTART;VALUE=DATE:20220814
DTEND;VALUE=DATE:20220815
DTSTAMP:20260425T163125
CREATED:20220303T171749Z
LAST-MODIFIED:20220303T171749Z
UID:6336-1660435200-1660521599@inhiswakes.com
SUMMARY:Big Lake\, OR - D2R
DESCRIPTION:
URL:https://inhiswakes.com/event/big-lake-or-d2r-4/
END:VEVENT
BEGIN:VEVENT
DTSTART;VALUE=DATE:20220813
DTEND;VALUE=DATE:20220814
DTSTAMP:20260425T163125
CREATED:20220303T171707Z
LAST-MODIFIED:20220303T171707Z
UID:6334-1660348800-1660435199@inhiswakes.com
SUMMARY:Big Lake\, OR - D2R
DESCRIPTION:
URL:https://inhiswakes.com/event/big-lake-or-d2r-3/
END:VEVENT
BEGIN:VEVENT
DTSTART;VALUE=DATE:20220802
DTEND;VALUE=DATE:20220803
DTSTAMP:20260425T163125
CREATED:20220303T171220Z
LAST-MODIFIED:20220303T171220Z
UID:6330-1659398400-1659484799@inhiswakes.com
SUMMARY:Sheridan\, CA - D2R - Mercy Multiplied
DESCRIPTION:
URL:https://inhiswakes.com/event/sheridan-ca-d2r-mercy-multiplied-2/
END:VEVENT
BEGIN:VEVENT
DTSTART;VALUE=DATE:20220801
DTEND;VALUE=DATE:20220802
DTSTAMP:20260425T163125
CREATED:20220303T171612Z
LAST-MODIFIED:20220303T171612Z
UID:6332-1659312000-1659398399@inhiswakes.com
SUMMARY:Dividing Creek\, NJ - D2R
DESCRIPTION:
URL:https://inhiswakes.com/event/dividing-creek-nj-d2r-4/
END:VEVENT
BEGIN:VEVENT
DTSTART;VALUE=DATE:20220801
DTEND;VALUE=DATE:20220802
DTSTAMP:20260425T163125
CREATED:20220303T171132Z
LAST-MODIFIED:20220303T171132Z
UID:6328-1659312000-1659398399@inhiswakes.com
SUMMARY:Sheridan\, CA - D2R - Koinonia Homes
DESCRIPTION:
URL:https://inhiswakes.com/event/sheridan-ca-d2r-koinonia-homes-2/
END:VEVENT
BEGIN:VEVENT
DTSTART;VALUE=DATE:20220729
DTEND;VALUE=DATE:20220730
DTSTAMP:20260425T163125
CREATED:20220303T035702Z
LAST-MODIFIED:20220303T035702Z
UID:6326-1659052800-1659139199@inhiswakes.com
SUMMARY:Anderson\, CA - D2R - TC Family Center
DESCRIPTION:
URL:https://inhiswakes.com/event/anderson-ca-d2r-tc-family-center/
END:VEVENT
BEGIN:VEVENT
DTSTART;VALUE=DATE:20220727
DTEND;VALUE=DATE:20220728
DTSTAMP:20260425T163125
CREATED:20220303T035613Z
LAST-MODIFIED:20220303T035613Z
UID:6324-1658880000-1658966399@inhiswakes.com
SUMMARY:San Jose\, CA - D2R TC Family Center
DESCRIPTION:
URL:https://inhiswakes.com/event/san-jose-ca-d2r-tc-family-center/
END:VEVENT
BEGIN:VEVENT
DTSTART;VALUE=DATE:20220725
DTEND;VALUE=DATE:20220726
DTSTAMP:20260425T163125
CREATED:20220303T035442Z
LAST-MODIFIED:20220303T035442Z
UID:6322-1658707200-1658793599@inhiswakes.com
SUMMARY:Lincoln\, CA - D2R
DESCRIPTION:
URL:https://inhiswakes.com/event/lincoln-ca-d2r/
END:VEVENT
BEGIN:VEVENT
DTSTART;VALUE=DATE:20220725
DTEND;VALUE=DATE:20220726
DTSTAMP:20260425T163125
CREATED:20220303T035357Z
LAST-MODIFIED:20220303T035357Z
UID:6320-1658707200-1658793599@inhiswakes.com
SUMMARY:Porterville\, CA - D2R
DESCRIPTION:
URL:https://inhiswakes.com/event/porterville-ca-d2r-3/
END:VEVENT
BEGIN:VEVENT
DTSTART;VALUE=DATE:20220721
DTEND;VALUE=DATE:20220722
DTSTAMP:20260425T163125
CREATED:20220303T035307Z
LAST-MODIFIED:20220303T035307Z
UID:6318-1658361600-1658447999@inhiswakes.com
SUMMARY:Boise\, ID - D2R - Teen Challenge
DESCRIPTION:
URL:https://inhiswakes.com/event/boise-id-d2r-teen-challenge-3/
END:VEVENT
BEGIN:VEVENT
DTSTART;VALUE=DATE:20220720
DTEND;VALUE=DATE:20220721
DTSTAMP:20260425T163125
CREATED:20220303T034856Z
LAST-MODIFIED:20220303T034856Z
UID:6310-1658275200-1658361599@inhiswakes.com
SUMMARY:Clarksville\, MI - D2R
DESCRIPTION:
URL:https://inhiswakes.com/event/clarksville-mi-d2r-3/
END:VEVENT
BEGIN:VEVENT
DTSTART;VALUE=DATE:20220719
DTEND;VALUE=DATE:20220720
DTSTAMP:20260425T163125
CREATED:20220303T035143Z
LAST-MODIFIED:20220303T035143Z
UID:6316-1658188800-1658275199@inhiswakes.com
SUMMARY:Polson\, MT - D2R
DESCRIPTION:
URL:https://inhiswakes.com/event/polson-mt-d2r-2/
END:VEVENT
BEGIN:VEVENT
DTSTART;VALUE=DATE:20220718
DTEND;VALUE=DATE:20220719
DTSTAMP:20260425T163125
CREATED:20220303T035107Z
LAST-MODIFIED:20220303T035107Z
UID:6314-1658102400-1658188799@inhiswakes.com
SUMMARY:Polson\, MT - D2R - Missoula Teen Challenge
DESCRIPTION:
URL:https://inhiswakes.com/event/polson-mt-d2r-missoula-teen-challenge/
END:VEVENT
BEGIN:VEVENT
DTSTART;VALUE=DATE:20220718
DTEND;VALUE=DATE:20220719
DTSTAMP:20260425T163125
CREATED:20220303T034942Z
LAST-MODIFIED:20220303T034942Z
UID:6312-1658102400-1658188799@inhiswakes.com
SUMMARY:Delaware\, OH - D2R
DESCRIPTION:
URL:https://inhiswakes.com/event/delaware-oh-d2r-3/
END:VEVENT
BEGIN:VEVENT
DTSTART;VALUE=DATE:20220715
DTEND;VALUE=DATE:20220716
DTSTAMP:20260425T163125
CREATED:20220303T034753Z
LAST-MODIFIED:20220303T034753Z
UID:6308-1657843200-1657929599@inhiswakes.com
SUMMARY:Elkhorn\, WI - D2R
DESCRIPTION:
URL:https://inhiswakes.com/event/elkhorn-wi-d2r-4/
END:VEVENT
END:VCALENDAR