BEGIN:VCALENDAR
VERSION:2.0
PRODID:-//In His Wakes - ECPv6.15.13//NONSGML v1.0//EN
CALSCALE:GREGORIAN
METHOD:PUBLISH
X-WR-CALNAME:In His Wakes
X-ORIGINAL-URL:https://inhiswakes.com
X-WR-CALDESC:Events for In His Wakes
REFRESH-INTERVAL;VALUE=DURATION:PT1H
X-Robots-Tag:noindex
X-PUBLISHED-TTL:PT1H
BEGIN:VTIMEZONE
TZID:UTC
BEGIN:STANDARD
TZOFFSETFROM:+0000
TZOFFSETTO:+0000
TZNAME:UTC
DTSTART:20230101T000000
END:STANDARD
END:VTIMEZONE
BEGIN:VEVENT
DTSTART;VALUE=DATE:20250714
DTEND;VALUE=DATE:20250720
DTSTAMP:20260425T152506
CREATED:20250415T221008Z
LAST-MODIFIED:20250415T221008Z
UID:8805-1752451200-1752969599@inhiswakes.com
SUMMARY:Wake Camp - Sheridan\, WY
DESCRIPTION:
URL:https://inhiswakes.com/event/wake-camp-sheridan-wy/
END:VEVENT
BEGIN:VEVENT
DTSTART;VALUE=DATE:20250711
DTEND;VALUE=DATE:20250712
DTSTAMP:20260425T152506
CREATED:20250415T220900Z
LAST-MODIFIED:20250415T220900Z
UID:8803-1752192000-1752278399@inhiswakes.com
SUMMARY:Boise\, ID D2R
DESCRIPTION:Teen Challenge girls center
URL:https://inhiswakes.com/event/boise-id-d2r-2/
END:VEVENT
BEGIN:VEVENT
DTSTART;VALUE=DATE:20250624
DTEND;VALUE=DATE:20250625
DTSTAMP:20260425T152506
CREATED:20250415T220740Z
LAST-MODIFIED:20250415T220740Z
UID:8801-1750723200-1750809599@inhiswakes.com
SUMMARY:Whiskeytown Res.\, CA D2R
DESCRIPTION:Happy Valley TC
URL:https://inhiswakes.com/event/whiskeytown-res-ca-d2r/
END:VEVENT
BEGIN:VEVENT
DTSTART;VALUE=DATE:20250623
DTEND;VALUE=DATE:20250624
DTSTAMP:20260425T152506
CREATED:20250415T220455Z
LAST-MODIFIED:20250415T220455Z
UID:8797-1750636800-1750723199@inhiswakes.com
SUMMARY:Dividing Creek\, NJ D2R
DESCRIPTION:Ranch Hope
URL:https://inhiswakes.com/event/dividing-creek-nj-d2r-6/
END:VEVENT
BEGIN:VEVENT
DTSTART;VALUE=DATE:20250622
DTEND;VALUE=DATE:20250623
DTSTAMP:20260425T152506
CREATED:20250415T220334Z
LAST-MODIFIED:20250415T220334Z
UID:8795-1750550400-1750636799@inhiswakes.com
SUMMARY:Delaware\, OH D2R
DESCRIPTION:
URL:https://inhiswakes.com/event/delaware-oh-d2r-5/
END:VEVENT
BEGIN:VEVENT
DTSTART;VALUE=DATE:20250606
DTEND;VALUE=DATE:20250607
DTSTAMP:20260425T152506
CREATED:20250415T220209Z
LAST-MODIFIED:20250415T220209Z
UID:8793-1749168000-1749254399@inhiswakes.com
SUMMARY:Smith Lake\, AL D2R - Day 2
DESCRIPTION:
URL:https://inhiswakes.com/event/smith-lake-al-d2r-day-2-2/
END:VEVENT
BEGIN:VEVENT
DTSTART;VALUE=DATE:20250605
DTEND;VALUE=DATE:20250606
DTSTAMP:20260425T152506
CREATED:20250415T220138Z
LAST-MODIFIED:20250415T220138Z
UID:8791-1749081600-1749167999@inhiswakes.com
SUMMARY:Smith Lake\, AL D2R - Day 1
DESCRIPTION:
URL:https://inhiswakes.com/event/smith-lake-al-d2r-day-1-2/
END:VEVENT
BEGIN:VEVENT
DTSTART;VALUE=DATE:20250603
DTEND;VALUE=DATE:20250604
DTSTAMP:20260425T152506
CREATED:20250415T220034Z
LAST-MODIFIED:20250415T220034Z
UID:8789-1748908800-1748995199@inhiswakes.com
SUMMARY:Nashville\, TN D2R - Mercy Multiplied
DESCRIPTION:
URL:https://inhiswakes.com/event/nashville-tn-d2r-mercy-multiplied-3/
END:VEVENT
BEGIN:VEVENT
DTSTART;VALUE=DATE:20250531
DTEND;VALUE=DATE:20250601
DTSTAMP:20260425T152506
CREATED:20250415T215927Z
LAST-MODIFIED:20250415T215927Z
UID:8787-1748649600-1748735999@inhiswakes.com
SUMMARY:Lake Kristi\, NC D2R - Cry Freedom
DESCRIPTION:
URL:https://inhiswakes.com/event/lake-kristi-nc-d2r-cry-freedom/
END:VEVENT
BEGIN:VEVENT
DTSTART;VALUE=DATE:20250530
DTEND;VALUE=DATE:20250531
DTSTAMP:20260425T152506
CREATED:20250415T215746Z
LAST-MODIFIED:20250415T215746Z
UID:8785-1748563200-1748649599@inhiswakes.com
SUMMARY:Lake Kristi\, NC D2R - ACES
DESCRIPTION:
URL:https://inhiswakes.com/event/lake-kristi-nc-d2r-aces/
END:VEVENT
BEGIN:VEVENT
DTSTART;VALUE=DATE:20250528
DTEND;VALUE=DATE:20250529
DTSTAMP:20260425T152506
CREATED:20250415T215647Z
LAST-MODIFIED:20250415T215647Z
UID:8783-1748390400-1748476799@inhiswakes.com
SUMMARY:Lake Kristi\, NC D2R - Hope is Alive
DESCRIPTION:
URL:https://inhiswakes.com/event/lake-kristi-nc-d2r-hope-is-alive/
END:VEVENT
BEGIN:VEVENT
DTSTART;VALUE=DATE:20250522
DTEND;VALUE=DATE:20250527
DTSTAMP:20260425T152506
CREATED:20250415T220630Z
LAST-MODIFIED:20250415T220630Z
UID:8799-1747872000-1748303999@inhiswakes.com
SUMMARY:Nautique Masters - Pine Moutain\, GA
DESCRIPTION:
URL:https://inhiswakes.com/event/nautique-masters-pine-moutain-ga/
END:VEVENT
BEGIN:VEVENT
DTSTART;VALUE=DATE:20240811
DTEND;VALUE=DATE:20240812
DTSTAMP:20260425T152506
CREATED:20240304T215101Z
LAST-MODIFIED:20240304T215101Z
UID:8760-1723334400-1723420799@inhiswakes.com
SUMMARY:The Cove Palisades\, OR - D2R Day 2
DESCRIPTION:
URL:https://inhiswakes.com/event/the-cove-palisades-or-d2r-day-2/
END:VEVENT
BEGIN:VEVENT
DTSTART;VALUE=DATE:20240810
DTEND;VALUE=DATE:20240811
DTSTAMP:20260425T152506
CREATED:20240304T215024Z
LAST-MODIFIED:20240304T215024Z
UID:8758-1723248000-1723334399@inhiswakes.com
SUMMARY:The Cove Palisades\, OR - D2R Day 1
DESCRIPTION:
URL:https://inhiswakes.com/event/the-cove-palisades-or-d2r-day-1/
END:VEVENT
BEGIN:VEVENT
DTSTART;VALUE=DATE:20240801
DTEND;VALUE=DATE:20240802
DTSTAMP:20260425T152506
CREATED:20240304T214729Z
LAST-MODIFIED:20240304T214729Z
UID:8756-1722470400-1722556799@inhiswakes.com
SUMMARY:Redding\, CA - D2R
DESCRIPTION:
URL:https://inhiswakes.com/event/redding-ca-d2r/
END:VEVENT
BEGIN:VEVENT
DTSTART;TZID=UTC:20240730T080000
DTEND;TZID=UTC:20240730T170000
DTSTAMP:20260425T152506
CREATED:20240304T214606Z
LAST-MODIFIED:20240304T214606Z
UID:8754-1722326400-1722358800@inhiswakes.com
SUMMARY:Sheridan\, CA - D2R Day 2
DESCRIPTION:
URL:https://inhiswakes.com/event/sheridan-ca-d2r-day-2/
END:VEVENT
BEGIN:VEVENT
DTSTART;VALUE=DATE:20240729
DTEND;VALUE=DATE:20240730
DTSTAMP:20260425T152506
CREATED:20240304T214500Z
LAST-MODIFIED:20240304T214500Z
UID:8752-1722211200-1722297599@inhiswakes.com
SUMMARY:Sheridan\, CA - D2R Day 1
DESCRIPTION:
URL:https://inhiswakes.com/event/sheridan-ca-d2r-day-1/
END:VEVENT
BEGIN:VEVENT
DTSTART;VALUE=DATE:20240726
DTEND;VALUE=DATE:20240727
DTSTAMP:20260425T152506
CREATED:20240304T204935Z
LAST-MODIFIED:20240304T214317Z
UID:8750-1721952000-1722038399@inhiswakes.com
SUMMARY:Porterville\, CA - D2R
DESCRIPTION:
URL:https://inhiswakes.com/event/porterville-ca-d2r-4/
END:VEVENT
BEGIN:VEVENT
DTSTART;VALUE=DATE:20240722
DTEND;VALUE=DATE:20240723
DTSTAMP:20260425T152506
CREATED:20240304T204321Z
LAST-MODIFIED:20240304T204321Z
UID:8748-1721606400-1721692799@inhiswakes.com
SUMMARY:Boise\, ID - D2R
DESCRIPTION:Lucky Peak Res.
URL:https://inhiswakes.com/event/boise-id-d2r/
END:VEVENT
BEGIN:VEVENT
DTSTART;TZID=UTC:20240715T080000
DTEND;TZID=UTC:20240719T170000
DTSTAMP:20260425T152506
CREATED:20240304T203811Z
LAST-MODIFIED:20240304T203811Z
UID:8746-1721030400-1721408400@inhiswakes.com
SUMMARY:Sheridan\, WY - Wake Camp
DESCRIPTION:
URL:https://inhiswakes.com/event/sheridan-wy-wake-camp/
END:VEVENT
BEGIN:VEVENT
DTSTART;VALUE=DATE:20240712
DTEND;VALUE=DATE:20240713
DTSTAMP:20260425T152506
CREATED:20240304T203649Z
LAST-MODIFIED:20240304T203649Z
UID:8744-1720742400-1720828799@inhiswakes.com
SUMMARY:Loveland\, CO - D2R
DESCRIPTION:Salvation Army youth.
URL:https://inhiswakes.com/event/loveland-co-d2r-3/
END:VEVENT
BEGIN:VEVENT
DTSTART;VALUE=DATE:20240708
DTEND;VALUE=DATE:20240709
DTSTAMP:20260425T152506
CREATED:20240304T203555Z
LAST-MODIFIED:20240304T203555Z
UID:8742-1720396800-1720483199@inhiswakes.com
SUMMARY:Lakes of Katy\, TX - D2R
DESCRIPTION:
URL:https://inhiswakes.com/event/lakes-of-katy-tx-d2r-2/
END:VEVENT
BEGIN:VEVENT
DTSTART;VALUE=DATE:20240706
DTEND;VALUE=DATE:20240707
DTSTAMP:20260425T152506
CREATED:20240509T155356Z
LAST-MODIFIED:20240509T155356Z
UID:8765-1720224000-1720310399@inhiswakes.com
SUMMARY:Waco\, TX Boys Ranch D2R
DESCRIPTION:
URL:https://inhiswakes.com/event/waco-tx-boys-ranch-d2r/
END:VEVENT
BEGIN:VEVENT
DTSTART;VALUE=DATE:20240701
DTEND;VALUE=DATE:20240702
DTSTAMP:20260425T152506
CREATED:20240304T203506Z
LAST-MODIFIED:20240304T203506Z
UID:8740-1719792000-1719878399@inhiswakes.com
SUMMARY:Oklahoma D2R - TBA
DESCRIPTION:
URL:https://inhiswakes.com/event/oklahoma-d2r-tba/
END:VEVENT
BEGIN:VEVENT
DTSTART;VALUE=DATE:20240627
DTEND;VALUE=DATE:20240628
DTSTAMP:20260425T152506
CREATED:20240304T203349Z
LAST-MODIFIED:20240307T170611Z
UID:8738-1719446400-1719532799@inhiswakes.com
SUMMARY:Detroit Lakes\, MN - D2R
DESCRIPTION:
URL:https://inhiswakes.com/event/crosby-mn-d2r/
END:VEVENT
BEGIN:VEVENT
DTSTART;VALUE=DATE:20240625
DTEND;VALUE=DATE:20240626
DTSTAMP:20260425T152506
CREATED:20240304T203240Z
LAST-MODIFIED:20240304T203240Z
UID:8736-1719273600-1719359999@inhiswakes.com
SUMMARY:Medicine Lake\, MN - D2R
DESCRIPTION:
URL:https://inhiswakes.com/event/medicine-lake-mn-d2r/
END:VEVENT
BEGIN:VEVENT
DTSTART;VALUE=DATE:20240620
DTEND;VALUE=DATE:20240621
DTSTAMP:20260425T152506
CREATED:20240304T203123Z
LAST-MODIFIED:20240304T203123Z
UID:8734-1718841600-1718927999@inhiswakes.com
SUMMARY:Delaware\, OH - D2R
DESCRIPTION:
URL:https://inhiswakes.com/event/delaware-oh-d2r-4/
END:VEVENT
BEGIN:VEVENT
DTSTART;VALUE=DATE:20240618
DTEND;VALUE=DATE:20240619
DTSTAMP:20260425T152506
CREATED:20240304T202917Z
LAST-MODIFIED:20240304T202917Z
UID:8730-1718668800-1718755199@inhiswakes.com
SUMMARY:Smith Lake\, AL - D2R Day 2
DESCRIPTION:
URL:https://inhiswakes.com/event/smith-lake-al-d2r-day-2/
END:VEVENT
BEGIN:VEVENT
DTSTART;VALUE=DATE:20240617
DTEND;VALUE=DATE:20240618
DTSTAMP:20260425T152506
CREATED:20240304T203026Z
LAST-MODIFIED:20240304T203026Z
UID:8732-1718582400-1718668799@inhiswakes.com
SUMMARY:Dividing Creek\, NJ - D2R
DESCRIPTION:
URL:https://inhiswakes.com/event/dividing-creek-nj-d2r-5/
END:VEVENT
BEGIN:VEVENT
DTSTART;VALUE=DATE:20240617
DTEND;VALUE=DATE:20240618
DTSTAMP:20260425T152506
CREATED:20240304T202812Z
LAST-MODIFIED:20240304T202812Z
UID:8728-1718582400-1718668799@inhiswakes.com
SUMMARY:Smith Lake\, AL - D2R Day 1
DESCRIPTION:
URL:https://inhiswakes.com/event/smith-lake-al-d2r-day-1/
END:VEVENT
END:VCALENDAR