BEGIN:VCALENDAR
VERSION:2.0
PRODID:-//In His Wakes - ECPv6.15.13//NONSGML v1.0//EN
CALSCALE:GREGORIAN
METHOD:PUBLISH
X-ORIGINAL-URL:https://inhiswakes.com
X-WR-CALDESC:Events for In His Wakes
REFRESH-INTERVAL;VALUE=DURATION:PT1H
X-Robots-Tag:noindex
X-PUBLISHED-TTL:PT1H
BEGIN:VTIMEZONE
TZID:UTC
BEGIN:STANDARD
TZOFFSETFROM:+0000
TZOFFSETTO:+0000
TZNAME:UTC
DTSTART:20250101T000000
END:STANDARD
END:VTIMEZONE
BEGIN:VEVENT
DTSTART;VALUE=DATE:20260612
DTEND;VALUE=DATE:20260613
DTSTAMP:20260424T175415
CREATED:20260402T174438Z
LAST-MODIFIED:20260402T174438Z
UID:8878-1781222400-1781308799@inhiswakes.com
SUMMARY:CALVARY HOME D2R - TOWNVILLE\, SC
DESCRIPTION:
URL:https://inhiswakes.com/event/calvary-home-d2r-townville-sc/
END:VEVENT
END:VCALENDAR